Workbook

Sheet アンケート設問
A1: 喫食者向けアンケート案
A2: No | B2: 大分類 | C2: 小分類 | D2: 回答形式 | E2: 設問No. | F2: 設問 | G2: 回答選択肢
A3: 1 | B3: 1 総合 | C3: ＮＰＳ | D3: NPS (10段階) | E3: =A3 -> 1 | F3: 食堂を同僚やご友人に勧めたいと思われますか （そう思わない 1 ～ 10 そう思う） | G3: 1 | I3: ~ | K3: 10
A4: 2 | B4: 1 総合 | C4: 総合評価 | D4: 選択式 (複数不可) | E4: =A4 -> 2 | F4: 食堂全体の総合評価はいかがでしょうか | G4: 大変満足 | H4: やや満足 | I4: やや不満 | J4: 不満
A5: 3 | B5: 2 属性 | C5: 男女 | D5: 選択式 (複数不可) | E5: =A5 -> 3 | F5: 性別は | G5: 男性 | H5: 女性 | I5: 回答しない
A6: 4 | B6: 2 属性 | C6: 年代 | D6: 選択式 (複数不可) | E6: =A6 -> 4 | F6: ご年齢は | G6: 20代 | H6: 30代 | I6: 40代 | J6: 50代 | K6: 60代～
A7: 5 | B7: 2 属性 | C7: 来店頻度 | D7: 選択式 (複数不可) | E7: =A7 -> 5 | F7: 食堂をご利用される頻度は | G7: 1回/週 | H7: 2～3回/週 | I7: ほぼ毎日 | J7: 普段利用しない
A8: 6 | B8: 2 属性 | C8: 来店動機 | D8: 選択式 (複数不可) | E8: =A8 -> 6 | F8: 食堂をご利用されないときはどのように食事をされていますか | G8: お弁当(持参) | H8: コンビニ・売店等で購入 | I8: パン | J8: 外食 | K8: その他
A9: 7 | B9: 3 サービス | C9: 接遇 | D9: 選択式 (複数不可) | E9: =A9 -> 7 | F9: スタッフは礼儀正しい接客を行っていますか（笑顔、挨拶、言葉使い等） | G9: 大変満足 | H9: やや満足 | I9: やや不満 | J9: 不満
A10: 8 | B10: 3 サービス | C10: 接遇 | D10: 選択式 (複数不可) | E10: =A10 -> 8 | F10: スタッフは食堂をご利用の皆様からのお声やクレームに対して適切に対応していますか | G10: 大変満足 | H10: やや満足 | I10: やや不満 | J10: 不満
A11: 9 | B11: 3 サービス | C11: ＰＯＰ | D11: 選択式 (複数不可) | E11: =A11 -> 9 | F11: サンプル、表示物は見やすいですか | G11: 大変満足 | H11: やや満足 | I11: やや不満 | J11: 不満
A12: 10 | B12: 4 衛生 | C12: 身だしなみ | D12: 選択式 (複数不可) | E12: =A12 -> 10 | F12: 身だしなみに清潔感はありますか（ユニフォーム等） | G12: 大変満足 | H12: やや満足 | I12: やや不満 | J12: 不満
A13: 11 | B13: 4 衛生 | C13: 整理 | D13: 選択式 (複数不可) | E13: =A13 -> 11 | F13: ホールの備品（カスターセット等）は清潔ですか | G13: 大変満足 | H13: やや満足 | I13: やや不満 | J13: 不満
A14: 12 | B14: 5 提供 | C14: 待機 | D14: 選択式 (複数不可) | E14: =A14 -> 12 | F14: 食事提供時、食堂をご利用の皆様をお待たせしていませんか | G14: 大変満足 | H14: やや満足 | I14: やや不満 | J14: 不満
A15: 13 | B15: 5 提供 | C15: 品切れ | D15: 選択式 (複数不可) | E15: =A15 -> 13 | F15: 品切れにご不満を感じていませんか | G15: 大変満足 | H15: やや満足 | I15: やや不満 | J15: 不満
A16: 14 | B16: 6 料理 | C16: 味 | D16: 選択式 (複数不可) | E16: =A16 -> 14 | F16: お食事の味に満足されていますか | G16: 大変満足 | H16: やや満足 | I16: やや不満 | J16: 不満
A17: 15 | B17: 6 料理 | C17: 味 | D17: 選択式 (複数不可) | E17: =A17 -> 15 | F17: お食事の味に満足されていますか | G17: 濃い | H17: 丁度良い | I17: 薄い
A18: 16 | B18: 6 料理 | C18: 量 | D18: 選択式 (複数不可) | E18: =A18 -> 16 | F18: 料理のボリュームは満足されていますか | G18: 大変満足 | H18: やや満足 | I18: やや不満 | J18: 不満
A19: 17 | B19: 6 料理 | C19: イベント | D19: 選択式 (複数不可) | E19: =A19 -> 17 | F19: 当店のイベント・フェア等のメニューに満足されていますか | G19: 大変満足 | H19: やや満足 | I19: やや不満 | J19: 不満
A20: 18 | B20: 6 料理 | C20: 好み | D20: 選択式 (複数不可) | E20: =A20 -> 18 | F20: 今後のメニュー開発の参考にさせていただきます。下記の中で、最も好きなカテゴリーをお選びください | G20: 和食 | H20: 洋食 | I20: 中華 | J20: アジアン | K20: その他
A21: 19 | B21: 6 料理 | C21: 好み | D21: 選択式 (複数不可) | E21: =A21 -> 19 | F21: 下記の中で、最も好きなメニューカテゴリーをお選びください | G21: 肉系 | H21: 魚系 | I21: 丼もの系 | J21: 麺系 | K21: その他
A22: 20 | B22: 6 料理 | C22: 好み | D22: 選択式 (複数不可) | E22: =A22 -> 20 | F22: 下記麺系の中で、最も好きなカテゴリーをお選びください | G22: ラーメン | H22: そば | I22: うどん | J22: パスタ | K22: その他
A23: 21 | B23: 6 料理 | C23: 好み | D23: 選択式 (複数回答) | E23: =A23 -> 21 | F23: 下記の中で、最も好きなカレーのトッピングをお選びください | G23: とんかつ | H23: アジフライ | I23: コロッケ | J23: ゆで卵 | K23: その他
A24: 22 | B24: 6 料理 | C24: 好み | D24: 選択式 (複数不可) | E24: =A24 -> 22 | F24: 下記フェアメニュー(案)の中で、最も食べたいと思うメニューをお選びください | G24: ● | H24: ● | I24: ● | J24: ● | K24: その他
A25: 23 | B25: 6 料理 | C25: 適温 | D25: 選択式 (複数不可) | E25: =A25 -> 23 | F25: 料理は適温で提供されていますか | G25: 大変満足 | H25: やや満足 | I25: やや不満 | J25: 不満
A26: 24 | B26: 6 料理 | C26: 味 | D26: 選択式 (複数不可) | E26: =A26 -> 24 | F26: ごはんについて | G26: かたい | H26: 丁度良い | I26: やわらかい
A27: 25 | B27: 6 料理 | C27: 味 | D27: 選択式 (複数不可) | E27: =A27 -> 25 | F27: ごはんについて | G27: 大変満足 | H27: やや満足 | I27: やや不満 | J27: 不満
A28: 26 | B28: 6 料理 | C28: 味 | D28: 選択式 (複数不可) | E28: =A28 -> 26 | F28: 汁について | G28: 濃い | H28: 丁度良い | I28: 薄い | K28: その他
A29: 27 | B29: 6 料理 | C29: 味 | D29: 選択式 (複数不可) | E29: =A29 -> 27 | F29: 汁について | G29: 適温 | H29: ぬるい | K29: その他
A30: 28 | B30: 6 料理 | C30: 盛り付け | D30: 選択式 (複数不可) | E30: =A30 -> 28 | F30: 盛り付けはサンプル通りで見栄えが良いですか | G30: 大変満足 | H30: やや満足 | I30: やや不満 | J30: 不満
A31: 29 | B31: 6 料理 | C31: メニュー | D31: 選択式 (複数不可) | E31: =A31 -> 29 | F31: 似たような料理・食材かぶりはいかがでしょうか | G31: 大変満足 | H31: やや満足 | I31: やや不満 | J31: 不満
A32: 30 | B32: 6 料理 | C32: メニュー | D32: 選択式 (複数不可) | E32: =A32 -> 30 | F32: 1日のメニュー構成（組合せ）はご満足いただけていますか | G32: 大変満足 | H32: やや満足 | I32: やや不満 | J32: 不満
A33: 31 | B33: 6 料理 | C33: 季節感 | D33: 選択式 (複数不可) | E33: =A33 -> 31 | F33: 季節感はありますか | G33: 大変満足 | H33: やや満足 | I33: やや不満 | J33: 不満
A34: 32 | B34: 7 フリー | C34: フリーコメント | D34: フリー記載 | E34: =A34 -> 32 | F34: 食堂に対してご意見をお聞かせください | G34: フリー

Sheet 申請書
A2: ＳＣＦ
A4: 喫食者アンケート申請書
T5: 申請日： | V5: =SUBSTITUTE(SUBSTITUTE(P5,申請書!R46,""),"","")
A8: 店舗コード
A12: 実施情報
A13: 店舗 | E13: =IFERROR(VLOOKUP($D$8,店情報2603!$A:$S,2,0),"") | N13: 事業本部 | R13: SCF
A16: 担当支店 | E16: =IFERROR(VLOOKUP($D$8,店情報2603!$A:$S,8,0),"") | N16: 担当SV | R16: =IFERROR(VLOOKUP($D$8,店情報2603!$A:$S,10,0),"")
A19: 実施期間 | O19: ～
A20: 実施理由/経緯、及び内容 （詳細記入のこと）
A24: 平均喫食数/日 | H24: 目標回収率 | K24: =U70 -> #DIV/0! | N24: 実施期間(日) | R24: =R19-F19+1 -> 1 | U24: 目標回収数 | Y24: =T70 -> #DIV/0!
A26: 管理部署記入欄 | E26: 2026 | K26: － | L26: 0001 | P26: － | S26: =E13
A27: アンケート管理No
A28: アンケート情報
A29: デザイン (パターンより選択) | O29: 印刷パターン | T29: A4/A6
A30: コメント 定型文① | F30: 平素は、当食堂をご利用頂きまして誠に有難う御座います。 シダックスでは、お客様の満足度向上を目指す為、アンケート調査を実施しておりますので、 何卒ご協力を御願い申し上げます。
A32: コメント 定型文② | F32: ご協力ありがとうございました。なにか質問やご意見がありましたら、遠慮なくお知らせください。皆様のご意見を大切にし、より良いサービスを提供できるよう努めてまいります。
A34: No | B34: 設問No. | D34: 大分類 | F34: 小分類 | H34: 回答形式 | J34: 設問 | R34: 回答選択肢
A35: 1 | D35: =IFERROR(VLOOKUP($B35,アンケート設問!$A$3:$K$34,2,0),"") | F35: =IFERROR(VLOOKUP($B35,アンケート設問!$A$3:$K$34,3,0),"") | H35: =IFERROR(VLOOKUP($B35,アンケート設問!$A$3:$K$34,4,0),"") | J35: =IFERROR(VLOOKUP($B35,アンケート設問!$A$3:$K$34,6,0),"") | R35: =IFERROR(VLOOKUP($B35,アンケート設問!$A$3:$K$34,7,0),"") | T35: =IFERROR(VLOOKUP($B35,アンケート設問!$A$3:$K$34,8,0),"") | V35: =IFERROR(VLOOKUP($B35,アンケート設問!$A$3:$K$34,9,0),"") | X35: =IFERROR(VLOOKUP($B35,アンケート設問!$A$3:$K$34,10,0),"") | Z35: =IFERROR(VLOOKUP($B35,アンケート設問!$A$3:$K$34,11,0),"") | AC35: 選択式 (複数不可)
A36: 2 | D36: =IFERROR(VLOOKUP($B36,アンケート設問!$A$3:$K$34,2,0),"") | F36: =IFERROR(VLOOKUP($B36,アンケート設問!$A$3:$K$34,3,0),"") | H36: =IFERROR(VLOOKUP($B36,アンケート設問!$A$3:$K$34,4,0),"") | J36: =IFERROR(VLOOKUP($B36,アンケート設問!$A$3:$K$34,6,0),"") | R36: =IFERROR(VLOOKUP($B36,アンケート設問!$A$3:$K$34,7,0),"") | T36: =IFERROR(VLOOKUP($B36,アンケート設問!$A$3:$K$34,8,0),"") | V36: =IFERROR(VLOOKUP($B36,アンケート設問!$A$3:$K$34,9,0),"") | X36: =IFERROR(VLOOKUP($B36,アンケート設問!$A$3:$K$34,10,0),"") | Z36: =IFERROR(VLOOKUP($B36,アンケート設問!$A$3:$K$34,11,0),"") | AC36: 選択式 (複数回答)
A37: 3 | D37: =IFERROR(VLOOKUP($B37,アンケート設問!$A$3:$K$34,2,0),"") | F37: =IFERROR(VLOOKUP($B37,アンケート設問!$A$3:$K$34,3,0),"") | H37: =IFERROR(VLOOKUP($B37,アンケート設問!$A$3:$K$34,4,0),"") | J37: =IFERROR(VLOOKUP($B37,アンケート設問!$A$3:$K$34,6,0),"") | R37: =IFERROR(VLOOKUP($B37,アンケート設問!$A$3:$K$34,7,0),"") | T37: =IFERROR(VLOOKUP($B37,アンケート設問!$A$3:$K$34,8,0),"") | V37: =IFERROR(VLOOKUP($B37,アンケート設問!$A$3:$K$34,9,0),"") | X37: =IFERROR(VLOOKUP($B37,アンケート設問!$A$3:$K$34,10,0),"") | Z37: =IFERROR(VLOOKUP($B37,アンケート設問!$A$3:$K$34,11,0),"") | AC37: フリー 記載
A38: 4 | D38: =IFERROR(VLOOKUP($B38,アンケート設問!$A$3:$K$34,2,0),"") | F38: =IFERROR(VLOOKUP($B38,アンケート設問!$A$3:$K$34,3,0),"") | H38: =IFERROR(VLOOKUP($B38,アンケート設問!$A$3:$K$34,4,0),"") | J38: =IFERROR(VLOOKUP($B38,アンケート設問!$A$3:$K$34,6,0),"") | R38: =IFERROR(VLOOKUP($B38,アンケート設問!$A$3:$K$34,7,0),"") | T38: =IFERROR(VLOOKUP($B38,アンケート設問!$A$3:$K$34,8,0),"") | V38: =IFERROR(VLOOKUP($B38,アンケート設問!$A$3:$K$34,9,0),"") | X38: =IFERROR(VLOOKUP($B38,アンケート設問!$A$3:$K$34,10,0),"") | Z38: =IFERROR(VLOOKUP($B38,アンケート設問!$A$3:$K$34,11,0),"")
A39: 5 | D39: =IFERROR(VLOOKUP($B39,アンケート設問!$A$3:$K$34,2,0),"") | F39: =IFERROR(VLOOKUP($B39,アンケート設問!$A$3:$K$34,3,0),"") | H39: =IFERROR(VLOOKUP($B39,アンケート設問!$A$3:$K$34,4,0),"") | J39: =IFERROR(VLOOKUP($B39,アンケート設問!$A$3:$K$34,6,0),"") | R39: =IFERROR(VLOOKUP($B39,アンケート設問!$A$3:$K$34,7,0),"") | T39: =IFERROR(VLOOKUP($B39,アンケート設問!$A$3:$K$34,8,0),"") | V39: =IFERROR(VLOOKUP($B39,アンケート設問!$A$3:$K$34,9,0),"") | X39: =IFERROR(VLOOKUP($B39,アンケート設問!$A$3:$K$34,10,0),"") | Z39: =IFERROR(VLOOKUP($B39,アンケート設問!$A$3:$K$34,11,0),"")
A40: 6 | D40: =IFERROR(VLOOKUP($B40,アンケート設問!$A$3:$K$34,2,0),"") | F40: =IFERROR(VLOOKUP($B40,アンケート設問!$A$3:$K$34,3,0),"") | H40: =IFERROR(VLOOKUP($B40,アンケート設問!$A$3:$K$34,4,0),"") | J40: =IFERROR(VLOOKUP($B40,アンケート設問!$A$3:$K$34,6,0),"") | R40: =IFERROR(VLOOKUP($B40,アンケート設問!$A$3:$K$34,7,0),"") | T40: =IFERROR(VLOOKUP($B40,アンケート設問!$A$3:$K$34,8,0),"") | V40: =IFERROR(VLOOKUP($B40,アンケート設問!$A$3:$K$34,9,0),"") | X40: =IFERROR(VLOOKUP($B40,アンケート設問!$A$3:$K$34,10,0),"") | Z40: =IFERROR(VLOOKUP($B40,アンケート設問!$A$3:$K$34,11,0),"")
A41: 7 | D41: =IFERROR(VLOOKUP($B41,アンケート設問!$A$3:$K$34,2,0),"") | F41: =IFERROR(VLOOKUP($B41,アンケート設問!$A$3:$K$34,3,0),"") | H41: =IFERROR(VLOOKUP($B41,アンケート設問!$A$3:$K$34,4,0),"") | J41: =IFERROR(VLOOKUP($B41,アンケート設問!$A$3:$K$34,6,0),"") | R41: =IFERROR(VLOOKUP($B41,アンケート設問!$A$3:$K$34,7,0),"") | T41: =IFERROR(VLOOKUP($B41,アンケート設問!$A$3:$K$34,8,0),"") | V41: =IFERROR(VLOOKUP($B41,アンケート設問!$A$3:$K$34,9,0),"") | X41: =IFERROR(VLOOKUP($B41,アンケート設問!$A$3:$K$34,10,0),"") | Z41: =IFERROR(VLOOKUP($B41,アンケート設問!$A$3:$K$34,11,0),"")
A42: 8 | D42: =IFERROR(VLOOKUP($B42,アンケート設問!$A$3:$K$34,2,0),"") | F42: =IFERROR(VLOOKUP($B42,アンケート設問!$A$3:$K$34,3,0),"") | H42: =IFERROR(VLOOKUP($B42,アンケート設問!$A$3:$K$34,4,0),"") | J42: =IFERROR(VLOOKUP($B42,アンケート設問!$A$3:$K$34,6,0),"") | R42: =IFERROR(VLOOKUP($B42,アンケート設問!$A$3:$K$34,7,0),"") | T42: =IFERROR(VLOOKUP($B42,アンケート設問!$A$3:$K$34,8,0),"") | V42: =IFERROR(VLOOKUP($B42,アンケート設問!$A$3:$K$34,9,0),"") | X42: =IFERROR(VLOOKUP($B42,アンケート設問!$A$3:$K$34,10,0),"") | Z42: =IFERROR(VLOOKUP($B42,アンケート設問!$A$3:$K$34,11,0),"")
A43: 9 | D43: =IFERROR(VLOOKUP($B43,アンケート設問!$A$3:$K$34,2,0),"") | F43: =IFERROR(VLOOKUP($B43,アンケート設問!$A$3:$K$34,3,0),"") | H43: =IFERROR(VLOOKUP($B43,アンケート設問!$A$3:$K$34,4,0),"") | J43: =IFERROR(VLOOKUP($B43,アンケート設問!$A$3:$K$34,6,0),"") | R43: =IFERROR(VLOOKUP($B43,アンケート設問!$A$3:$K$34,7,0),"") | T43: =IFERROR(VLOOKUP($B43,アンケート設問!$A$3:$K$34,8,0),"") | V43: =IFERROR(VLOOKUP($B43,アンケート設問!$A$3:$K$34,9,0),"") | X43: =IFERROR(VLOOKUP($B43,アンケート設問!$A$3:$K$34,10,0),"") | Z43: =IFERROR(VLOOKUP($B43,アンケート設問!$A$3:$K$34,11,0),"")
A44: 10 | D44: =IFERROR(VLOOKUP($B44,アンケート設問!$A$3:$K$34,2,0),"") | F44: =IFERROR(VLOOKUP($B44,アンケート設問!$A$3:$K$34,3,0),"") | H44: =IFERROR(VLOOKUP($B44,アンケート設問!$A$3:$K$34,4,0),"") | J44: =IFERROR(VLOOKUP($B44,アンケート設問!$A$3:$K$34,6,0),"") | R44: =IFERROR(VLOOKUP($B44,アンケート設問!$A$3:$K$34,7,0),"") | T44: =IFERROR(VLOOKUP($B44,アンケート設問!$A$3:$K$34,8,0),"") | V44: =IFERROR(VLOOKUP($B44,アンケート設問!$A$3:$K$34,9,0),"") | X44: =IFERROR(VLOOKUP($B44,アンケート設問!$A$3:$K$34,10,0),"") | Z44: =IFERROR(VLOOKUP($B44,アンケート設問!$A$3:$K$34,11,0),"")
A45: 11 | D45: =IFERROR(VLOOKUP($B45,アンケート設問!$A$3:$K$34,2,0),"") | F45: =IFERROR(VLOOKUP($B45,アンケート設問!$A$3:$K$34,3,0),"") | H45: =IFERROR(VLOOKUP($B45,アンケート設問!$A$3:$K$34,4,0),"") | J45: =IFERROR(VLOOKUP($B45,アンケート設問!$A$3:$K$34,6,0),"") | R45: =IFERROR(VLOOKUP($B45,アンケート設問!$A$3:$K$34,7,0),"") | T45: =IFERROR(VLOOKUP($B45,アンケート設問!$A$3:$K$34,8,0),"") | V45: =IFERROR(VLOOKUP($B45,アンケート設問!$A$3:$K$34,9,0),"") | X45: =IFERROR(VLOOKUP($B45,アンケート設問!$A$3:$K$34,10,0),"") | Z45: =IFERROR(VLOOKUP($B45,アンケート設問!$A$3:$K$34,11,0),"")
A46: 12 | D46: =IFERROR(VLOOKUP($B46,アンケート設問!$A$3:$K$34,2,0),"") | F46: =IFERROR(VLOOKUP($B46,アンケート設問!$A$3:$K$34,3,0),"") | H46: =IFERROR(VLOOKUP($B46,アンケート設問!$A$3:$K$34,4,0),"") | J46: =IFERROR(VLOOKUP($B46,アンケート設問!$A$3:$K$34,6,0),"") | R46: =IFERROR(VLOOKUP($B46,アンケート設問!$A$3:$K$34,7,0),"") | T46: =IFERROR(VLOOKUP($B46,アンケート設問!$A$3:$K$34,8,0),"") | V46: =IFERROR(VLOOKUP($B46,アンケート設問!$A$3:$K$34,9,0),"") | X46: =IFERROR(VLOOKUP($B46,アンケート設問!$A$3:$K$34,10,0),"") | Z46: =IFERROR(VLOOKUP($B46,アンケート設問!$A$3:$K$34,11,0),"")
A47: 13 | D47: =IFERROR(VLOOKUP($B47,アンケート設問!$A$3:$K$34,2,0),"") | F47: =IFERROR(VLOOKUP($B47,アンケート設問!$A$3:$K$34,3,0),"") | H47: =IFERROR(VLOOKUP($B47,アンケート設問!$A$3:$K$34,4,0),"") | J47: =IFERROR(VLOOKUP($B47,アンケート設問!$A$3:$K$34,6,0),"") | R47: =IFERROR(VLOOKUP($B47,アンケート設問!$A$3:$K$34,7,0),"") | T47: =IFERROR(VLOOKUP($B47,アンケート設問!$A$3:$K$34,8,0),"") | V47: =IFERROR(VLOOKUP($B47,アンケート設問!$A$3:$K$34,9,0),"") | X47: =IFERROR(VLOOKUP($B47,アンケート設問!$A$3:$K$34,10,0),"") | Z47: =IFERROR(VLOOKUP($B47,アンケート設問!$A$3:$K$34,11,0),"")
A48: 14 | D48: =IFERROR(VLOOKUP($B48,アンケート設問!$A$3:$K$34,2,0),"") | F48: =IFERROR(VLOOKUP($B48,アンケート設問!$A$3:$K$34,3,0),"") | H48: =IFERROR(VLOOKUP($B48,アンケート設問!$A$3:$K$34,4,0),"") | J48: =IFERROR(VLOOKUP($B48,アンケート設問!$A$3:$K$34,6,0),"") | R48: =IFERROR(VLOOKUP($B48,アンケート設問!$A$3:$K$34,7,0),"") | T48: =IFERROR(VLOOKUP($B48,アンケート設問!$A$3:$K$34,8,0),"") | V48: =IFERROR(VLOOKUP($B48,アンケート設問!$A$3:$K$34,9,0),"") | X48: =IFERROR(VLOOKUP($B48,アンケート設問!$A$3:$K$34,10,0),"") | Z48: =IFERROR(VLOOKUP($B48,アンケート設問!$A$3:$K$34,11,0),"")
A49: 15 | D49: =IFERROR(VLOOKUP($B49,アンケート設問!$A$3:$K$34,2,0),"") | F49: =IFERROR(VLOOKUP($B49,アンケート設問!$A$3:$K$34,3,0),"") | H49: =IFERROR(VLOOKUP($B49,アンケート設問!$A$3:$K$34,4,0),"") | J49: =IFERROR(VLOOKUP($B49,アンケート設問!$A$3:$K$34,6,0),"") | R49: =IFERROR(VLOOKUP($B49,アンケート設問!$A$3:$K$34,7,0),"") | T49: =IFERROR(VLOOKUP($B49,アンケート設問!$A$3:$K$34,8,0),"") | V49: =IFERROR(VLOOKUP($B49,アンケート設問!$A$3:$K$34,9,0),"") | X49: =IFERROR(VLOOKUP($B49,アンケート設問!$A$3:$K$34,10,0),"") | Z49: =IFERROR(VLOOKUP($B49,アンケート設問!$A$3:$K$34,11,0),"")
... A54: 20 | D54: =IFERROR(VLOOKUP($B54,アンケート設問!$A$3:$K$34,2,0),"") | F54: =IFERROR(VLOOKUP($B54,アンケート設問!$A$3:$K$34,3,0),"") | H54: =IFERROR(VLOOKUP($B54,アンケート設問!$A$3:$K$34,4,0),"") | J54: =IFERROR(VLOOKUP($B54,アンケート設問!$A$3:$K$34,6,0),"") | R54: =IFERROR(VLOOKUP($B54,アンケート設問!$A$3:$K$34,7,0),"") | T54: =IFERROR(VLOOKUP($B54,アンケート設問!$A$3:$K$34,8,0),"") | V54: =IFERROR(VLOOKUP($B54,アンケート設問!$A$3:$K$34,9,0),"") | X54: =IFERROR(VLOOKUP($B54,アンケート設問!$A$3:$K$34,10,0),"") | Z54: =IFERROR(VLOOKUP($B54,アンケート設問!$A$3:$K$34,11,0),"")
Q63: N | R63: =E24 -> 0
Q64: z | R64: 1.65 | S64: 0.9
Q65: p | R65: 0.5 | S65: 0.5
Q66: e | R66: 0.05 | S66: 0.05
Q69: =R64*R64*R65*(1-R65) -> 0.680625 | R69: =Q69/Q70 -> 272.25 | S69: =R69 -> 272.25
Q70: =R66*R66 -> 0.0025 | T70: =S69/S71 -> #DIV/0! | U70: =T70/R63 -> #DIV/0!
P71: 1 | Q71: =R64*R64*R65*(1-R65) -> 0.680625 | R71: =Q71/Q72 -> #DIV/0! | S71: =R71+P71 -> #DIV/0!
...

Sheet デザインパターン
B4: ① | G4: ② | L4: ③
B33: ④ | G33: ⑤ | L33: ⑥

Sheet 集計結果
B1: アンケート集計結果 | R1: その他
B2: サマリー
B3: No | C3: 大分類 | E3: 回答形式 | G3: 設問 | H3: 選択肢1 | J3: 選択肢2 | L3: 選択肢3 | N3: 選択肢4 | P3: 選択肢5
A4: B | B4: =申請書!A35 -> 1 | C4: =申請書!D35 | E4: =申請書!H35 | G4: =申請書!J35 | H4: =申請書!R35 | I4: =IF(集計結果!$E4=申請書!$AC$35,COUNTIF(集計貼りつけ!$E:$E,集計結果!H4),IF(集計結果!$E4=申請書!$AC$36,COUNTIF(集計貼りつけ!$E:$E,"*"&集計結果!H4&"*"),"")) | J4: =申請書!T35 | K4: =IF(集計結果!$E4=申請書!$AC$35,COUNTIF(集計貼りつけ!$E:$E,集計結果!J4),IF(集計結果!$E4=申請書!$AC$36,COUNTIF(集計貼りつけ!$E:$E,"*"&集計結果!J4&"*"),"")) | L4: =申請書!V35 | M4: =IF(集計結果!$E4=申請書!$AC$35,COUNTIF(集計貼りつけ!$E:$E,集計結果!L4),IF(集計結果!$E4=申請書!$AC$36,COUNTIF(集計貼りつけ!$E:$E,"*"&集計結果!L4&"*"),"")) | N4: =申請書!X35 | O4: =IF(集計結果!$E4=申請書!$AC$35,COUNTIF(集計貼りつけ!$E:$E,集計結果!N4),IF(集計結果!$E4=申請書!$AC$36,COUNTIF(集計貼りつけ!$E:$E,"*"&集計結果!N4&"*"),"")) | P4: =申請書!Z35 | Q4: =IF(集計結果!$E4=申請書!$AC$35,COUNTIF(集計貼りつけ!$E:$E,集計結果!P4),IF(集計結果!$E4=申請書!$AC$36,COUNTIF(集計貼りつけ!$E:$E,"*"&集計結果!P4&"*"),"")) | R4: =IF(P4=$R$1,その他集計!B$1,"")
A5: C | B5: =申請書!A36 -> 2 | C5: =申請書!D36 | E5: =申請書!H36 | G5: =申請書!J36 | H5: =申請書!R36 | I5: =IF(集計結果!$E5=申請書!$AC$35,COUNTIF(集計貼りつけ!$F:$F,集計結果!H5),IF(集計結果!$E5=申請書!$AC$36,COUNTIF(集計貼りつけ!$F:$F,"*"&集計結果!H5&"*"),"")) | J5: =申請書!T36 | K5: =IF(集計結果!$E5=申請書!$AC$35,COUNTIF(集計貼りつけ!$F:$F,集計結果!J5),IF(集計結果!$E5=申請書!$AC$36,COUNTIF(集計貼りつけ!$F:$F,"*"&集計結果!J5&"*"),"")) | L5: =申請書!V36 | M5: =IF(集計結果!$E5=申請書!$AC$35,COUNTIF(集計貼りつけ!$F:$F,集計結果!L5),IF(集計結果!$E5=申請書!$AC$36,COUNTIF(集計貼りつけ!$F:$F,"*"&集計結果!L5&"*"),"")) | N5: =申請書!X36 | O5: =IF(集計結果!$E5=申請書!$AC$35,COUNTIF(集計貼りつけ!$F:$F,集計結果!N5),IF(集計結果!$E5=申請書!$AC$36,COUNTIF(集計貼りつけ!$F:$F,"*"&集計結果!N5&"*"),"")) | P5: =申請書!Z36 | Q5: =IF(集計結果!$E5=申請書!$AC$35,COUNTIF(集計貼りつけ!$F:$F,集計結果!P5),IF(集計結果!$E5=申請書!$AC$36,COUNTIF(集計貼りつけ!$F:$F,"*"&集計結果!P5&"*"),"")) | R5: =IF(P5=$R$1,その他集計!C$1,"")
A6: D | B6: =申請書!A37 -> 3 | C6: =申請書!D37 | E6: =申請書!H37 | G6: =申請書!J37 | H6: =申請書!R37 | I6: =IF(集計結果!$E6=申請書!$AC$35,COUNTIF(集計貼りつけ!$G:$G,集計結果!H6),IF(集計結果!$E6=申請書!$AC$36,COUNTIF(集計貼りつけ!$G:$G,"*"&集計結果!H6&"*"),"")) | J6: =申請書!T37 | K6: =IF(集計結果!$E6=申請書!$AC$35,COUNTIF(集計貼りつけ!$G:$G,集計結果!J6),IF(集計結果!$E6=申請書!$AC$36,COUNTIF(集計貼りつけ!$G:$G,"*"&集計結果!J6&"*"),"")) | L6: =申請書!V37 | M6: =IF(集計結果!$E6=申請書!$AC$35,COUNTIF(集計貼りつけ!$G:$G,集計結果!L6),IF(集計結果!$E6=申請書!$AC$36,COUNTIF(集計貼りつけ!$G:$G,"*"&集計結果!L6&"*"),"")) | N6: =申請書!X37 | O6: =IF(集計結果!$E6=申請書!$AC$35,COUNTIF(集計貼りつけ!$G:$G,集計結果!N6),IF(集計結果!$E6=申請書!$AC$36,COUNTIF(集計貼りつけ!$G:$G,"*"&集計結果!N6&"*"),"")) | P6: =申請書!Z37 | Q6: =IF(集計結果!$E6=申請書!$AC$35,COUNTIF(集計貼りつけ!$G:$G,集計結果!P6),IF(集計結果!$E6=申請書!$AC$36,COUNTIF(集計貼りつけ!$G:$G,"*"&集計結果!P6&"*"),"")) | R6: =IF(P6=$R$1,その他集計!D$1,"")
A7: E | B7: =申請書!A38 -> 4 | C7: =申請書!D38 | E7: =申請書!H38 | G7: =申請書!J38 | H7: =申請書!R38 | I7: =IF(集計結果!$E7=申請書!$AC$35,COUNTIF(集計貼りつけ!$H:$H,集計結果!H7),IF(集計結果!$E7=申請書!$AC$36,COUNTIF(集計貼りつけ!$H:$H,"*"&集計結果!H7&"*"),"")) | J7: =申請書!T38 | K7: =IF(集計結果!$E7=申請書!$AC$35,COUNTIF(集計貼りつけ!$H:$H,集計結果!J7),IF(集計結果!$E7=申請書!$AC$36,COUNTIF(集計貼りつけ!$H:$H,"*"&集計結果!J7&"*"),"")) | L7: =申請書!V38 | M7: =IF(集計結果!$E7=申請書!$AC$35,COUNTIF(集計貼りつけ!$H:$H,集計結果!L7),IF(集計結果!$E7=申請書!$AC$36,COUNTIF(集計貼りつけ!$H:$H,"*"&集計結果!L7&"*"),"")) | N7: =申請書!X38 | O7: =IF(集計結果!$E7=申請書!$AC$35,COUNTIF(集計貼りつけ!$H:$H,集計結果!N7),IF(集計結果!$E7=申請書!$AC$36,COUNTIF(集計貼りつけ!$H:$H,"*"&集計結果!N7&"*"),"")) | P7: =申請書!Z38 | Q7: =IF(集計結果!$E7=申請書!$AC$35,COUNTIF(集計貼りつけ!$G:$G,集計結果!P7),IF(集計結果!$E7=申請書!$AC$36,COUNTIF(集計貼りつけ!$G:$G,"*"&集計結果!P7&"*"),"")) | R7: =IF(P7=$R$1,その他集計!E$1,"")
A8: F | B8: =申請書!A39 -> 5 | C8: =申請書!D39 | E8: =申請書!H39 | G8: =申請書!J39 | H8: =申請書!R39 | I8: =IF(集計結果!$E8=申請書!$AC$35,COUNTIF(集計貼りつけ!$I:$I,集計結果!H8),IF(集計結果!$E8=申請書!$AC$36,COUNTIF(集計貼りつけ!$I:$I,"*"&集計結果!H8&"*"),"")) | J8: =申請書!T39 | K8: =IF(集計結果!$E8=申請書!$AC$35,COUNTIF(集計貼りつけ!$I:$I,集計結果!J8),IF(集計結果!$E8=申請書!$AC$36,COUNTIF(集計貼りつけ!$I:$I,"*"&集計結果!J8&"*"),"")) | L8: =申請書!V39 | M8: =IF(集計結果!$E8=申請書!$AC$35,COUNTIF(集計貼りつけ!$I:$I,集計結果!L8),IF(集計結果!$E8=申請書!$AC$36,COUNTIF(集計貼りつけ!$I:$I,"*"&集計結果!L8&"*"),"")) | N8: =申請書!X39 | O8: =IF(集計結果!$E8=申請書!$AC$35,COUNTIF(集計貼りつけ!$I:$I,集計結果!N8),IF(集計結果!$E8=申請書!$AC$36,COUNTIF(集計貼りつけ!$I:$I,"*"&集計結果!N8&"*"),"")) | P8: =申請書!Z39 | Q8: =IF(集計結果!$E8=申請書!$AC$35,COUNTIF(集計貼りつけ!$I:$I,集計結果!P8),IF(集計結果!$E8=申請書!$AC$36,COUNTIF(集計貼りつけ!$I:$I,"*"&集計結果!P8&"*"),"")) | R8: =IF(P8=$R$1,その他集計!F$1,"")
A9: G | B9: =申請書!A40 -> 6 | C9: =申請書!D40 | E9: =申請書!H40 | G9: =申請書!J40 | H9: =申請書!R40 | I9: =IF(集計結果!$E9=申請書!$AC$35,COUNTIF(集計貼りつけ!$J:$J,集計結果!H9),IF(集計結果!$E9=申請書!$AC$36,COUNTIF(集計貼りつけ!$J:$J,"*"&集計結果!H9&"*"),"")) | J9: =申請書!T40 | K9: =IF(集計結果!$E9=申請書!$AC$35,COUNTIF(集計貼りつけ!$J:$J,集計結果!J9),IF(集計結果!$E9=申請書!$AC$36,COUNTIF(集計貼りつけ!$J:$J,"*"&集計結果!J9&"*"),"")) | L9: =申請書!V40 | M9: =IF(集計結果!$E9=申請書!$AC$35,COUNTIF(集計貼りつけ!$J:$J,集計結果!L9),IF(集計結果!$E9=申請書!$AC$36,COUNTIF(集計貼りつけ!$J:$J,"*"&集計結果!L9&"*"),"")) | N9: =申請書!X40 | O9: =IF(集計結果!$E9=申請書!$AC$35,COUNTIF(集計貼りつけ!$J:$J,集計結果!N9),IF(集計結果!$E9=申請書!$AC$36,COUNTIF(集計貼りつけ!$J:$J,"*"&集計結果!N9&"*"),"")) | P9: =申請書!Z40 | Q9: =IF(集計結果!$E9=申請書!$AC$35,COUNTIF(集計貼りつけ!$J:$J,集計結果!P9),IF(集計結果!$E9=申請書!$AC$36,COUNTIF(集計貼りつけ!$J:$J,"*"&集計結果!P9&"*"),"")) | R9: =IF(P9=$R$1,その他集計!G$1,"")
A10: H | B10: =申請書!A41 -> 7 | C10: =申請書!D41 | E10: =申請書!H41 | G10: =申請書!J41 | H10: =申請書!R41 | I10: =IF(集計結果!$E10=申請書!$AC$35,COUNTIF(集計貼りつけ!$K:$K,集計結果!H10),IF(集計結果!$E10=申請書!$AC$36,COUNTIF(集計貼りつけ!$K:$K,"*"&集計結果!H10&"*"),"")) | J10: =申請書!T41 | K10: =IF(集計結果!$E10=申請書!$AC$35,COUNTIF(集計貼りつけ!$K:$K,集計結果!J10),IF(集計結果!$E10=申請書!$AC$36,COUNTIF(集計貼りつけ!$K:$K,"*"&集計結果!J10&"*"),"")) | L10: =申請書!V41 | M10: =IF(集計結果!$E10=申請書!$AC$35,COUNTIF(集計貼りつけ!$K:$K,集計結果!L10),IF(集計結果!$E10=申請書!$AC$36,COUNTIF(集計貼りつけ!$K:$K,"*"&集計結果!L10&"*"),"")) | N10: =申請書!X41 | O10: =IF(集計結果!$E10=申請書!$AC$35,COUNTIF(集計貼りつけ!$K:$K,集計結果!N10),IF(集計結果!$E10=申請書!$AC$36,COUNTIF(集計貼りつけ!$K:$K,"*"&集計結果!N10&"*"),"")) | P10: =申請書!Z41 | Q10: =IF(集計結果!$E10=申請書!$AC$35,COUNTIF(集計貼りつけ!$J:$J,集計結果!P10),IF(集計結果!$E10=申請書!$AC$36,COUNTIF(集計貼りつけ!$J:$J,"*"&集計結果!P10&"*"),"")) | R10: =IF(P10=$R$1,その他集計!H$1,"")
A11: I | B11: =申請書!A42 -> 8 | C11: =申請書!D42 | E11: =申請書!H42 | G11: =申請書!J42 | H11: =申請書!R42 | I11: =IF(集計結果!$E11=申請書!$AC$35,COUNTIF(集計貼りつけ!$L:$L,集計結果!H11),IF(集計結果!$E11=申請書!$AC$36,COUNTIF(集計貼りつけ!$L:$L,"*"&集計結果!H11&"*"),"")) | J11: =申請書!T42 | K11: =IF(集計結果!$E11=申請書!$AC$35,COUNTIF(集計貼りつけ!$L:$L,集計結果!J11),IF(集計結果!$E11=申請書!$AC$36,COUNTIF(集計貼りつけ!$L:$L,"*"&集計結果!J11&"*"),"")) | L11: =申請書!V42 | M11: =IF(集計結果!$E11=申請書!$AC$35,COUNTIF(集計貼りつけ!$L:$L,集計結果!L11),IF(集計結果!$E11=申請書!$AC$36,COUNTIF(集計貼りつけ!$L:$L,"*"&集計結果!L11&"*"),"")) | N11: =申請書!X42 | O11: =IF(集計結果!$E11=申請書!$AC$35,COUNTIF(集計貼りつけ!$L:$L,集計結果!N11),IF(集計結果!$E11=申請書!$AC$36,COUNTIF(集計貼りつけ!$L:$L,"*"&集計結果!N11&"*"),"")) | P11: =申請書!Z42 | Q11: =IF(集計結果!$E11=申請書!$AC$35,COUNTIF(集計貼りつけ!$L:$L,集計結果!P11),IF(集計結果!$E11=申請書!$AC$36,COUNTIF(集計貼りつけ!$L:$L,"*"&集計結果!P11&"*"),"")) | R11: =IF(P11=$R$1,その他集計!I$1,"")
A12: J | B12: =申請書!A43 -> 9 | C12: =申請書!D43 | E12: =申請書!H43 | G12: =申請書!J43 | H12: =申請書!R43 | I12: =IF(集計結果!$E12=申請書!$AC$35,COUNTIF(集計貼りつけ!$M:$M,集計結果!H12),IF(集計結果!$E12=申請書!$AC$36,COUNTIF(集計貼りつけ!$M:$M,"*"&集計結果!H12&"*"),"")) | J12: =申請書!T43 | K12: =IF(集計結果!$E12=申請書!$AC$35,COUNTIF(集計貼りつけ!$M:$M,集計結果!J12),IF(集計結果!$E12=申請書!$AC$36,COUNTIF(集計貼りつけ!$M:$M,"*"&集計結果!J12&"*"),"")) | L12: =申請書!V43 | M12: =IF(集計結果!$E12=申請書!$AC$35,COUNTIF(集計貼りつけ!$M:$M,集計結果!L12),IF(集計結果!$E12=申請書!$AC$36,COUNTIF(集計貼りつけ!$M:$M,"*"&集計結果!L12&"*"),"")) | N12: =申請書!X43 | O12: =IF(集計結果!$E12=申請書!$AC$35,COUNTIF(集計貼りつけ!$M:$M,集計結果!N12),IF(集計結果!$E12=申請書!$AC$36,COUNTIF(集計貼りつけ!$M:$M,"*"&集計結果!N12&"*"),"")) | P12: =申請書!Z43 | Q12: =IF(集計結果!$E12=申請書!$AC$35,COUNTIF(集計貼りつけ!$M:$M,集計結果!P12),IF(集計結果!$E12=申請書!$AC$36,COUNTIF(集計貼りつけ!$M:$M,"*"&集計結果!P12&"*"),"")) | R12: =IF(P12=$R$1,その他集計!J$1,"")
A13: K | B13: =申請書!A44 -> 10 | C13: =申請書!D44 | E13: =申請書!H44 | G13: =申請書!J44 | H13: =申請書!R44 | I13: =IF(集計結果!$E13=申請書!$AC$35,COUNTIF(集計貼りつけ!$N:$N,集計結果!H13),IF(集計結果!$E13=申請書!$AC$36,COUNTIF(集計貼りつけ!$N:$N,"*"&集計結果!H13&"*"),"")) | J13: =申請書!T44 | K13: =IF(集計結果!$E13=申請書!$AC$35,COUNTIF(集計貼りつけ!$N:$N,集計結果!J13),IF(集計結果!$E13=申請書!$AC$36,COUNTIF(集計貼りつけ!$N:$N,"*"&集計結果!J13&"*"),"")) | L13: =申請書!V44 | M13: =IF(集計結果!$E13=申請書!$AC$35,COUNTIF(集計貼りつけ!$N:$N,集計結果!L13),IF(集計結果!$E13=申請書!$AC$36,COUNTIF(集計貼りつけ!$N:$N,"*"&集計結果!L13&"*"),"")) | N13: =申請書!X44 | O13: =IF(集計結果!$E13=申請書!$AC$35,COUNTIF(集計貼りつけ!$N:$N,集計結果!N13),IF(集計結果!$E13=申請書!$AC$36,COUNTIF(集計貼りつけ!$N:$N,"*"&集計結果!N13&"*"),"")) | P13: =申請書!Z44 | Q13: =IF(集計結果!$E13=申請書!$AC$35,COUNTIF(集計貼りつけ!$N:$N,集計結果!P13),IF(集計結果!$E13=申請書!$AC$36,COUNTIF(集計貼りつけ!$N:$N,"*"&集計結果!P13&"*"),"")) | R13: =IF(P13=$R$1,その他集計!K$1,"")
A14: L | B14: =申請書!A45 -> 11 | C14: =申請書!D45 | E14: =申請書!H45 | G14: =申請書!J45 | H14: =申請書!R45 | I14: =IF(集計結果!$E14=申請書!$AC$35,COUNTIF(集計貼りつけ!$O:$O,集計結果!H14),IF(集計結果!$E14=申請書!$AC$36,COUNTIF(集計貼りつけ!$O:$O,"*"&集計結果!H14&"*"),"")) | J14: =申請書!T45 | K14: =IF(集計結果!$E14=申請書!$AC$35,COUNTIF(集計貼りつけ!$O:$O,集計結果!J14),IF(集計結果!$E14=申請書!$AC$36,COUNTIF(集計貼りつけ!$O:$O,"*"&集計結果!J14&"*"),"")) | L14: =申請書!V45 | M14: =IF(集計結果!$E14=申請書!$AC$35,COUNTIF(集計貼りつけ!$O:$O,集計結果!L14),IF(集計結果!$E14=申請書!$AC$36,COUNTIF(集計貼りつけ!$O:$O,"*"&集計結果!L14&"*"),"")) | N14: =申請書!X45 | O14: =IF(集計結果!$E14=申請書!$AC$35,COUNTIF(集計貼りつけ!$O:$O,集計結果!N14),IF(集計結果!$E14=申請書!$AC$36,COUNTIF(集計貼りつけ!$O:$O,"*"&集計結果!N14&"*"),"")) | P14: =申請書!Z45 | Q14: =IF(集計結果!$E14=申請書!$AC$35,COUNTIF(集計貼りつけ!$O:$O,集計結果!P14),IF(集計結果!$E14=申請書!$AC$36,COUNTIF(集計貼りつけ!$O:$O,"*"&集計結果!P14&"*"),"")) | R14: =IF(P14=$R$1,その他集計!L$1,"")
A15: M | B15: =申請書!A46 -> 12 | C15: =申請書!D46 | E15: =申請書!H46 | G15: =申請書!J46 | H15: =申請書!R46 | I15: =IF(集計結果!$E15=申請書!$AC$35,COUNTIF(集計貼りつけ!$P:$P,集計結果!H15),IF(集計結果!$E15=申請書!$AC$36,COUNTIF(集計貼りつけ!$P:$P,"*"&集計結果!H15&"*"),"")) | J15: =申請書!T46 | K15: =IF(集計結果!$E15=申請書!$AC$35,COUNTIF(集計貼りつけ!$P:$P,集計結果!J15),IF(集計結果!$E15=申請書!$AC$36,COUNTIF(集計貼りつけ!$P:$P,"*"&集計結果!J15&"*"),"")) | L15: =申請書!V46 | M15: =IF(集計結果!$E15=申請書!$AC$35,COUNTIF(集計貼りつけ!$P:$P,集計結果!L15),IF(集計結果!$E15=申請書!$AC$36,COUNTIF(集計貼りつけ!$P:$P,"*"&集計結果!L15&"*"),"")) | N15: =申請書!X46 | O15: =IF(集計結果!$E15=申請書!$AC$35,COUNTIF(集計貼りつけ!$P:$P,集計結果!N15),IF(集計結果!$E15=申請書!$AC$36,COUNTIF(集計貼りつけ!$P:$P,"*"&集計結果!N15&"*"),"")) | P15: =申請書!Z46 | Q15: =IF(集計結果!$E15=申請書!$AC$35,COUNTIF(集計貼りつけ!$P:$P,集計結果!P15),IF(集計結果!$E15=申請書!$AC$36,COUNTIF(集計貼りつけ!$P:$P,"*"&集計結果!P15&"*"),"")) | R15: =IF(P15=$R$1,その他集計!M$1,"")
A16: N | B16: =申請書!A47 -> 13 | C16: =申請書!D47 | E16: =申請書!H47 | G16: =申請書!J47 | H16: =申請書!R47 | I16: =IF(集計結果!$E16=申請書!$AC$35,COUNTIF(集計貼りつけ!$Q:$Q,集計結果!H16),IF(集計結果!$E16=申請書!$AC$36,COUNTIF(集計貼りつけ!$Q:$Q,"*"&集計結果!H16&"*"),"")) | J16: =申請書!T47 | K16: =IF(集計結果!$E16=申請書!$AC$35,COUNTIF(集計貼りつけ!$Q:$Q,集計結果!J16),IF(集計結果!$E16=申請書!$AC$36,COUNTIF(集計貼りつけ!$Q:$Q,"*"&集計結果!J16&"*"),"")) | L16: =申請書!V47 | M16: =IF(集計結果!$E16=申請書!$AC$35,COUNTIF(集計貼りつけ!$Q:$Q,集計結果!L16),IF(集計結果!$E16=申請書!$AC$36,COUNTIF(集計貼りつけ!$Q:$Q,"*"&集計結果!L16&"*"),"")) | N16: =申請書!X47 | O16: =IF(集計結果!$E16=申請書!$AC$35,COUNTIF(集計貼りつけ!$Q:$Q,集計結果!N16),IF(集計結果!$E16=申請書!$AC$36,COUNTIF(集計貼りつけ!$Q:$Q,"*"&集計結果!N16&"*"),"")) | P16: =申請書!Z47 | Q16: =IF(集計結果!$E16=申請書!$AC$35,COUNTIF(集計貼りつけ!$Q:$Q,集計結果!P16),IF(集計結果!$E16=申請書!$AC$36,COUNTIF(集計貼りつけ!$Q:$Q,"*"&集計結果!P16&"*"),"")) | R16: =IF(P16=$R$1,その他集計!N$1,"")
A17: O | B17: =申請書!A48 -> 14 | C17: =申請書!D48 | E17: =申請書!H48 | G17: =申請書!J48 | H17: =申請書!R48 | I17: =IF(集計結果!$E17=申請書!$AC$35,COUNTIF(集計貼りつけ!$R:$R,集計結果!H17),IF(集計結果!$E17=申請書!$AC$36,COUNTIF(集計貼りつけ!$R:$R,"*"&集計結果!H17&"*"),"")) | J17: =申請書!T48 | K17: =IF(集計結果!$E17=申請書!$AC$35,COUNTIF(集計貼りつけ!$R:$R,集計結果!J17),IF(集計結果!$E17=申請書!$AC$36,COUNTIF(集計貼りつけ!$R:$R,"*"&集計結果!J17&"*"),"")) | L17: =申請書!V48 | M17: =IF(集計結果!$E17=申請書!$AC$35,COUNTIF(集計貼りつけ!$R:$R,集計結果!L17),IF(集計結果!$E17=申請書!$AC$36,COUNTIF(集計貼りつけ!$R:$R,"*"&集計結果!L17&"*"),"")) | N17: =申請書!X48 | O17: =IF(集計結果!$E17=申請書!$AC$35,COUNTIF(集計貼りつけ!$R:$R,集計結果!N17),IF(集計結果!$E17=申請書!$AC$36,COUNTIF(集計貼りつけ!$R:$R,"*"&集計結果!N17&"*"),"")) | P17: =申請書!Z48 | Q17: =IF(集計結果!$E17=申請書!$AC$35,COUNTIF(集計貼りつけ!$R:$R,集計結果!P17),IF(集計結果!$E17=申請書!$AC$36,COUNTIF(集計貼りつけ!$R:$R,"*"&集計結果!P17&"*"),"")) | R17: =IF(P17=$R$1,その他集計!O$1,"")
A18: P | B18: =申請書!A49 -> 15 | C18: =申請書!D49 | E18: =申請書!H49 | G18: =申請書!J49 | H18: =申請書!R49 | I18: =IF(集計結果!$E18=申請書!$AC$35,COUNTIF(集計貼りつけ!$S:$S,集計結果!H18),IF(集計結果!$E18=申請書!$AC$36,COUNTIF(集計貼りつけ!$S:$S,"*"&集計結果!H18&"*"),"")) | J18: =申請書!T49 | K18: =IF(集計結果!$E18=申請書!$AC$35,COUNTIF(集計貼りつけ!$S:$S,集計結果!J18),IF(集計結果!$E18=申請書!$AC$36,COUNTIF(集計貼りつけ!$S:$S,"*"&集計結果!J18&"*"),"")) | L18: =申請書!V49 | M18: =IF(集計結果!$E18=申請書!$AC$35,COUNTIF(集計貼りつけ!$S:$S,集計結果!L18),IF(集計結果!$E18=申請書!$AC$36,COUNTIF(集計貼りつけ!$S:$S,"*"&集計結果!L18&"*"),"")) | N18: =申請書!X49 | O18: =IF(集計結果!$E18=申請書!$AC$35,COUNTIF(集計貼りつけ!$S:$S,集計結果!N18),IF(集計結果!$E18=申請書!$AC$36,COUNTIF(集計貼りつけ!$S:$S,"*"&集計結果!N18&"*"),"")) | P18: =申請書!Z49 | Q18: =IF(集計結果!$E18=申請書!$AC$35,COUNTIF(集計貼りつけ!$S:$S,集計結果!P18),IF(集計結果!$E18=申請書!$AC$36,COUNTIF(集計貼りつけ!$S:$S,"*"&集計結果!P18&"*"),"")) | R18: =IF(P18=$R$1,その他集計!P$1,"")
A19: Q | B19: =申請書!A50 -> 16 | C19: =申請書!D50 | E19: =申請書!H50 | G19: =申請書!J50 | H19: =申請書!R50 | I19: =IF(集計結果!$E19=申請書!$AC$35,COUNTIF(集計貼りつけ!$T:$T,集計結果!H19),IF(集計結果!$E19=申請書!$AC$36,COUNTIF(集計貼りつけ!$T:$T,"*"&集計結果!H19&"*"),"")) | J19: =申請書!T50 | K19: =IF(集計結果!$E19=申請書!$AC$35,COUNTIF(集計貼りつけ!$T:$T,集計結果!J19),IF(集計結果!$E19=申請書!$AC$36,COUNTIF(集計貼りつけ!$T:$T,"*"&集計結果!J19&"*"),"")) | L19: =申請書!V50 | M19: =IF(集計結果!$E19=申請書!$AC$35,COUNTIF(集計貼りつけ!$T:$T,集計結果!L19),IF(集計結果!$E19=申請書!$AC$36,COUNTIF(集計貼りつけ!$T:$T,"*"&集計結果!L19&"*"),"")) | N19: =申請書!X50 | O19: =IF(集計結果!$E19=申請書!$AC$35,COUNTIF(集計貼りつけ!$T:$T,集計結果!N19),IF(集計結果!$E19=申請書!$AC$36,COUNTIF(集計貼りつけ!$T:$T,"*"&集計結果!N19&"*"),"")) | P19: =申請書!Z50 | Q19: =IF(集計結果!$E19=申請書!$AC$35,COUNTIF(集計貼りつけ!$T:$T,集計結果!P19),IF(集計結果!$E19=申請書!$AC$36,COUNTIF(集計貼りつけ!$T:$T,"*"&集計結果!P19&"*"),""))
A20: R | B20: =申請書!A51 -> 17 | C20: =申請書!D51 | E20: =申請書!H51 | G20: =申請書!J51 | H20: =申請書!R51 | I20: =IF(集計結果!$E20=申請書!$AC$35,COUNTIF(集計貼りつけ!$U:$U,集計結果!H20),IF(集計結果!$E20=申請書!$AC$36,COUNTIF(集計貼りつけ!$U:$U,"*"&集計結果!H20&"*"),"")) | J20: =申請書!T51 | K20: =IF(集計結果!$E20=申請書!$AC$35,COUNTIF(集計貼りつけ!$U:$U,集計結果!J20),IF(集計結果!$E20=申請書!$AC$36,COUNTIF(集計貼りつけ!$U:$U,"*"&集計結果!J20&"*"),"")) | L20: =申請書!V51 | M20: =IF(集計結果!$E20=申請書!$AC$35,COUNTIF(集計貼りつけ!$U:$U,集計結果!L20),IF(集計結果!$E20=申請書!$AC$36,COUNTIF(集計貼りつけ!$U:$U,"*"&集計結果!L20&"*"),"")) | N20: =申請書!X51 | O20: =IF(集計結果!$E20=申請書!$AC$35,COUNTIF(集計貼りつけ!$U:$U,集計結果!N20),IF(集計結果!$E20=申請書!$AC$36,COUNTIF(集計貼りつけ!$U:$U,"*"&集計結果!N20&"*"),"")) | P20: =申請書!Z51 | Q20: =IF(集計結果!$E20=申請書!$AC$35,COUNTIF(集計貼りつけ!$U:$U,集計結果!P20),IF(集計結果!$E20=申請書!$AC$36,COUNTIF(集計貼りつけ!$U:$U,"*"&集計結果!P20&"*"),""))
A21: S | B21: =申請書!A52 -> 18 | C21: =申請書!D52 | E21: =申請書!H52 | G21: =申請書!J52 | H21: =申請書!R52 | I21: =IF(集計結果!$E21=申請書!$AC$35,COUNTIF(集計貼りつけ!$V:$V,集計結果!H21),IF(集計結果!$E21=申請書!$AC$36,COUNTIF(集計貼りつけ!$V:$V,"*"&集計結果!H21&"*"),"")) | J21: =申請書!T52 | K21: =IF(集計結果!$E21=申請書!$AC$35,COUNTIF(集計貼りつけ!$V:$V,集計結果!J21),IF(集計結果!$E21=申請書!$AC$36,COUNTIF(集計貼りつけ!$V:$V,"*"&集計結果!J21&"*"),"")) | L21: =申請書!V52 | M21: =IF(集計結果!$E21=申請書!$AC$35,COUNTIF(集計貼りつけ!$V:$V,集計結果!L21),IF(集計結果!$E21=申請書!$AC$36,COUNTIF(集計貼りつけ!$V:$V,"*"&集計結果!L21&"*"),"")) | N21: =申請書!X52 | O21: =IF(集計結果!$E21=申請書!$AC$35,COUNTIF(集計貼りつけ!$V:$V,集計結果!N21),IF(集計結果!$E21=申請書!$AC$36,COUNTIF(集計貼りつけ!$V:$V,"*"&集計結果!N21&"*"),"")) | P21: =申請書!Z52 | Q21: =IF(集計結果!$E21=申請書!$AC$35,COUNTIF(集計貼りつけ!$V:$V,集計結果!P21),IF(集計結果!$E21=申請書!$AC$36,COUNTIF(集計貼りつけ!$V:$V,"*"&集計結果!P21&"*"),""))
A22: T | B22: =申請書!A53 -> 19 | C22: =申請書!D53 | E22: =申請書!H53 | G22: =申請書!J53 | H22: =申請書!R53 | I22: =IF(集計結果!$E22=申請書!$AC$35,COUNTIF(集計貼りつけ!$S:$S,集計結果!H22),IF(集計結果!$E22=申請書!$AC$36,COUNTIF(集計貼りつけ!$S:$S,"*"&集計結果!H22&"*"),"")) | J22: =申請書!T53 | K22: =IF(集計結果!$E22=申請書!$AC$35,COUNTIF(集計貼りつけ!$S:$S,集計結果!J22),IF(集計結果!$E22=申請書!$AC$36,COUNTIF(集計貼りつけ!$S:$S,"*"&集計結果!J22&"*"),"")) | L22: =申請書!V53 | M22: =IF(集計結果!$E22=申請書!$AC$35,COUNTIF(集計貼りつけ!$S:$S,集計結果!L22),IF(集計結果!$E22=申請書!$AC$36,COUNTIF(集計貼りつけ!$S:$S,"*"&集計結果!L22&"*"),"")) | N22: =申請書!X53 | O22: =IF(集計結果!$E22=申請書!$AC$35,COUNTIF(集計貼りつけ!$S:$S,集計結果!N22),IF(集計結果!$E22=申請書!$AC$36,COUNTIF(集計貼りつけ!$S:$S,"*"&集計結果!N22&"*"),"")) | P22: =申請書!Z53 | Q22: =IF(集計結果!$E22=申請書!$AC$35,COUNTIF(集計貼りつけ!$S:$S,集計結果!P22),IF(集計結果!$E22=申請書!$AC$36,COUNTIF(集計貼りつけ!$S:$S,"*"&集計結果!P22&"*"),""))
A23: U | B23: =申請書!A54 -> 20 | C23: =申請書!D54 | E23: =申請書!H54 | G23: =申請書!J54 | H23: =申請書!R54 | I23: =IF(集計結果!$E23=申請書!$AC$35,COUNTIF(集計貼りつけ!$S:$S,集計結果!H23),IF(集計結果!$E23=申請書!$AC$36,COUNTIF(集計貼りつけ!$S:$S,"*"&集計結果!H23&"*"),"")) | J23: =申請書!T54 | K23: =IF(集計結果!$E23=申請書!$AC$35,COUNTIF(集計貼りつけ!$S:$S,集計結果!J23),IF(集計結果!$E23=申請書!$AC$36,COUNTIF(集計貼りつけ!$S:$S,"*"&集計結果!J23&"*"),"")) | L23: =申請書!V54 | M23: =IF(集計結果!$E23=申請書!$AC$35,COUNTIF(集計貼りつけ!$S:$S,集計結果!L23),IF(集計結果!$E23=申請書!$AC$36,COUNTIF(集計貼りつけ!$S:$S,"*"&集計結果!L23&"*"),"")) | N23: =申請書!X54 | O23: =IF(集計結果!$E23=申請書!$AC$35,COUNTIF(集計貼りつけ!$S:$S,集計結果!N23),IF(集計結果!$E23=申請書!$AC$36,COUNTIF(集計貼りつけ!$S:$S,"*"&集計結果!N23&"*"),"")) | P23: =申請書!Z54 | Q23: =IF(集計結果!$E23=申請書!$AC$35,COUNTIF(集計貼りつけ!$S:$S,集計結果!P23),IF(集計結果!$E23=申請書!$AC$36,COUNTIF(集計貼りつけ!$S:$S,"*"&集計結果!P23&"*"),""))
B24: ＮＰＳ | C24: 1 総合 | E24: NPS (10段階) | G24: 当店を同僚やご友人に勧めたいと思われますか （そう思わない 1 ～ 10 そう思う） | R24: =IF(P24=$R$1,その他集計!B$1,"")

Sheet 集計貼りつけ
B1: =MATCH(B2,D4:ZZ4,0)+2 -> #N/A | C1: =MATCH(C2,D4:ZZ4,0)+1 -> #N/A | D1: Ｄ４に貼り付け
B2: 食堂に対してご意見をお聞かせください | C2: 当店を同僚やご友人に勧めたいと思われますか （そう思わない 0 ～ 10 そう思う） | D2: 2 | E2: 3 | F2: 4 | G2: 5 | H2: 6 | I2: 7 | J2: 8 | K2: 9 | L2: 10 | M2: 11 | N2: 12 | O2: 13 | P2: 14 | Q2: 15 | R2: 16 | S2: 17 | T2: 18 | U2: 19
C3: 2 | D3: 3 | E3: 4 | F3: 5 | G3: 6 | H3: 7 | I3: 8 | J3: 9 | K3: 10 | L3: 11 | M3: 12 | N3: 13 | O3: 14 | P3: 15 | Q3: 16 | R3: 17 | S3: 18 | T3: 19 | U3: 20
A5: 1 | B5: =$B$2&A5 -> 食堂に対してご意見をお聞かせください1 | C5: =$C$2&A5 -> 当店を同僚やご友人に勧めたいと思われますか （そう思わない 0 ～ 10 そう思う）1
A6: 2 | B6: =$B$2&A6 -> 食堂に対してご意見をお聞かせください2 | C6: =$C$2&A6 -> 当店を同僚やご友人に勧めたいと思われますか （そう思わない 0 ～ 10 そう思う）2
A7: 3 | B7: =$B$2&A7 -> 食堂に対してご意見をお聞かせください3 | C7: =$C$2&A7 -> 当店を同僚やご友人に勧めたいと思われますか （そう思わない 0 ～ 10 そう思う）3
A8: 4 | B8: =$B$2&A8 -> 食堂に対してご意見をお聞かせください4 | C8: =$C$2&A8 -> 当店を同僚やご友人に勧めたいと思われますか （そう思わない 0 ～ 10 そう思う）4
A9: 5 | B9: =$B$2&A9 -> 食堂に対してご意見をお聞かせください5 | C9: =$C$2&A9 -> 当店を同僚やご友人に勧めたいと思われますか （そう思わない 0 ～ 10 そう思う）5
A10: 6 | B10: =$B$2&A10 -> 食堂に対してご意見をお聞かせください6 | C10: =$C$2&A10 -> 当店を同僚やご友人に勧めたいと思われますか （そう思わない 0 ～ 10 そう思う）6
A11: 7 | B11: =$B$2&A11 -> 食堂に対してご意見をお聞かせください7 | C11: =$C$2&A11 -> 当店を同僚やご友人に勧めたいと思われますか （そう思わない 0 ～ 10 そう思う）7
A12: 8 | B12: =$B$2&A12 -> 食堂に対してご意見をお聞かせください8 | C12: =$C$2&A12 -> 当店を同僚やご友人に勧めたいと思われますか （そう思わない 0 ～ 10 そう思う）8
A13: 9 | B13: =$B$2&A13 -> 食堂に対してご意見をお聞かせください9 | C13: =$C$2&A13 -> 当店を同僚やご友人に勧めたいと思われますか （そう思わない 0 ～ 10 そう思う）9
A14: 10 | B14: =$B$2&A14 -> 食堂に対してご意見をお聞かせください10 | C14: =$C$2&A14 -> 当店を同僚やご友人に勧めたいと思われますか （そう思わない 0 ～ 10 そう思う）10
A15: 11 | B15: =$B$2&A15 -> 食堂に対してご意見をお聞かせください11 | C15: =$C$2&A15 -> 当店を同僚やご友人に勧めたいと思われますか （そう思わない 0 ～ 10 そう思う）11
A16: 12 | B16: =$B$2&A16 -> 食堂に対してご意見をお聞かせください12 | C16: =$C$2&A16 -> 当店を同僚やご友人に勧めたいと思われますか （そう思わない 0 ～ 10 そう思う）12
... A504: 500 | B504: =$B$2&A504 -> 食堂に対してご意見をお聞かせください500 | C504: =$C$2&A504 -> 当店を同僚やご友人に勧めたいと思われますか （そう思わない 0 ～ 10 そう思う）500
B505: =$B$2&A505 -> 食堂に対してご意見をお聞かせください | C505: =$C$2&A505 -> 当店を同僚やご友人に勧めたいと思われますか （そう思わない 0 ～ 10 そう思う）
B506: =$B$2&A506 -> 食堂に対してご意見をお聞かせください | C506: =$C$2&A506 -> 当店を同僚やご友人に勧めたいと思われますか （そう思わない 0 ～ 10 そう思う）
B507: =$B$2&A507 -> 食堂に対してご意見をお聞かせください | C507: =$C$2&A507 -> 当店を同僚やご友人に勧めたいと思われますか （そう思わない 0 ～ 10 そう思う）
B508: =$B$2&A508 -> 食堂に対してご意見をお聞かせください | C508: =$C$2&A508 -> 当店を同僚やご友人に勧めたいと思われますか （そう思わない 0 ～ 10 そう思う）
B509: =$B$2&A509 -> 食堂に対してご意見をお聞かせください | C509: =$C$2&A509 -> 当店を同僚やご友人に勧めたいと思われますか （そう思わない 0 ～ 10 そう思う）
B510: =$B$2&A510 -> 食堂に対してご意見をお聞かせください | C510: =$C$2&A510 -> 当店を同僚やご友人に勧めたいと思われますか （そう思わない 0 ～ 10 そう思う）
B511: =$B$2&A511 -> 食堂に対してご意見をお聞かせください | C511: =$C$2&A511 -> 当店を同僚やご友人に勧めたいと思われますか （そう思わない 0 ～ 10 そう思う）
B512: =$B$2&A512 -> 食堂に対してご意見をお聞かせください | C512: =$C$2&A512 -> 当店を同僚やご友人に勧めたいと思われますか （そう思わない 0 ～ 10 そう思う）
B513: =$B$2&A513 -> 食堂に対してご意見をお聞かせください | C513: =$C$2&A513 -> 当店を同僚やご友人に勧めたいと思われますか （そう思わない 0 ～ 10 そう思う）
B514: =$B$2&A514 -> 食堂に対してご意見をお聞かせください | C514: =$C$2&A514 -> 当店を同僚やご友人に勧めたいと思われますか （そう思わない 0 ～ 10 そう思う）
B515: =$B$2&A515 -> 食堂に対してご意見をお聞かせください | C515: =$C$2&A515 -> 当店を同僚やご友人に勧めたいと思われますか （そう思わない 0 ～ 10 そう思う）
B516: =$B$2&A516 -> 食堂に対してご意見をお聞かせください | C516: =$C$2&A516 -> 当店を同僚やご友人に勧めたいと思われますか （そう思わない 0 ～ 10 そう思う）
... B518: =$B$2&A518 -> 食堂に対してご意見をお聞かせください | C518: =$C$2&A518 -> 当店を同僚やご友人に勧めたいと思われますか （そう思わない 0 ～ 10 そう思う）

Sheet NPS集計
B1: 当店を同僚やご友人に勧めたいと思われますか （そう思わない 0 ～ 10 そう思う） | C1: 当店を同僚やご友人に勧めたいと思われますか （そう思わない 0 ～ 10 そう思う）
A2: =集計貼りつけ!C5 -> 当店を同僚やご友人に勧めたいと思われますか （そう思わない 0 ～ 10 そう思う）1 | B2: =VLOOKUP(A2,集計貼りつけ!C:ZZ,集計貼りつけ!$C$1,0) -> #REF! | C2: =IFERROR(IF(B2=0,NA(),B2),"0") -> 0 | E2: =COUNTA(集計貼りつけ!D5:D516) -> 0
A3: =集計貼りつけ!C6 -> 当店を同僚やご友人に勧めたいと思われますか （そう思わない 0 ～ 10 そう思う）2 | B3: =VLOOKUP(A3,集計貼りつけ!C:ZZ,集計貼りつけ!$C$1,0) -> #REF! | C3: =IF(B3=0,NA(),B3) -> #REF! | D3: ゼロ | E3: =E2-SUM(E4:E13) -> 0
A4: =集計貼りつけ!C7 -> 当店を同僚やご友人に勧めたいと思われますか （そう思わない 0 ～ 10 そう思う）3 | B4: =VLOOKUP(A4,集計貼りつけ!C:ZZ,集計貼りつけ!$C$1,0) -> #REF! | C4: =IF(B4=0,NA(),B4) -> #REF! | D4: 1 | E4: =COUNTIFS($C:$C,D4) -> 0
A5: =集計貼りつけ!C8 -> 当店を同僚やご友人に勧めたいと思われますか （そう思わない 0 ～ 10 そう思う）4 | B5: =VLOOKUP(A5,集計貼りつけ!C:ZZ,集計貼りつけ!$C$1,0) -> #REF! | C5: =IF(B5=0,NA(),B5) -> #REF! | D5: 2 | E5: =COUNTIFS($C:$C,D5) -> 0
A6: =集計貼りつけ!C9 -> 当店を同僚やご友人に勧めたいと思われますか （そう思わない 0 ～ 10 そう思う）5 | B6: =VLOOKUP(A6,集計貼りつけ!C:ZZ,集計貼りつけ!$C$1,0) -> #REF! | C6: =IF(B6=0,NA(),B6) -> #REF! | D6: 3 | E6: =COUNTIFS($C:$C,D6) -> 0
A7: =集計貼りつけ!C10 -> 当店を同僚やご友人に勧めたいと思われますか （そう思わない 0 ～ 10 そう思う）6 | B7: =VLOOKUP(A7,集計貼りつけ!C:ZZ,集計貼りつけ!$C$1,0) -> #REF! | C7: =IF(B7=0,NA(),B7) -> #REF! | D7: 4 | E7: =COUNTIFS($C:$C,D7) -> 0
A8: =集計貼りつけ!C11 -> 当店を同僚やご友人に勧めたいと思われますか （そう思わない 0 ～ 10 そう思う）7 | B8: =VLOOKUP(A8,集計貼りつけ!C:ZZ,集計貼りつけ!$C$1,0) -> #REF! | C8: =IF(B8=0,NA(),B8) -> #REF! | D8: 5 | E8: =COUNTIFS($C:$C,D8) -> 0
A9: =集計貼りつけ!C12 -> 当店を同僚やご友人に勧めたいと思われますか （そう思わない 0 ～ 10 そう思う）8 | B9: =VLOOKUP(A9,集計貼りつけ!C:ZZ,集計貼りつけ!$C$1,0) -> #REF! | C9: =IF(B9=0,NA(),B9) -> #REF! | D9: 6 | E9: =COUNTIFS($C:$C,D9) -> 0
A10: =集計貼りつけ!C13 -> 当店を同僚やご友人に勧めたいと思われますか （そう思わない 0 ～ 10 そう思う）9 | B10: =VLOOKUP(A10,集計貼りつけ!C:ZZ,集計貼りつけ!$C$1,0) -> #REF! | C10: =IF(B10=0,NA(),B10) -> #REF! | D10: 7 | E10: =COUNTIFS($C:$C,D10) -> 0
A11: =集計貼りつけ!C14 -> 当店を同僚やご友人に勧めたいと思われますか （そう思わない 0 ～ 10 そう思う）10 | B11: =VLOOKUP(A11,集計貼りつけ!C:ZZ,集計貼りつけ!$C$1,0) -> #REF! | C11: =IF(B11=0,NA(),B11) -> #REF! | D11: 8 | E11: =COUNTIFS($C:$C,D11) -> 0
A12: =集計貼りつけ!C15 -> 当店を同僚やご友人に勧めたいと思われますか （そう思わない 0 ～ 10 そう思う）11 | B12: =VLOOKUP(A12,集計貼りつけ!C:ZZ,集計貼りつけ!$C$1,0) -> #REF! | C12: =IF(B12=0,NA(),B12) -> #REF! | D12: 9 | E12: =COUNTIFS($C:$C,D12) -> 0
A13: =集計貼りつけ!C16 -> 当店を同僚やご友人に勧めたいと思われますか （そう思わない 0 ～ 10 そう思う）12 | B13: =VLOOKUP(A13,集計貼りつけ!C:ZZ,集計貼りつけ!$C$1,0) -> #REF! | C13: =IF(B13=0,NA(),B13) -> #REF! | D13: 10 | E13: =COUNTIFS($C:$C,D13) -> 0
A14: =集計貼りつけ!C17 -> 当店を同僚やご友人に勧めたいと思われますか （そう思わない 0 ～ 10 そう思う）13 | B14: =VLOOKUP(A14,集計貼りつけ!C:ZZ,集計貼りつけ!$C$1,0) -> #REF! | C14: =IF(B14=0,NA(),B14) -> #REF!
A15: =集計貼りつけ!C18 -> 当店を同僚やご友人に勧めたいと思われますか （そう思わない 0 ～ 10 そう思う）14 | B15: =VLOOKUP(A15,集計貼りつけ!C:ZZ,集計貼りつけ!$C$1,0) -> #REF! | C15: =IF(B15=0,NA(),B15) -> #REF!
A16: =集計貼りつけ!C19 -> 当店を同僚やご友人に勧めたいと思われますか （そう思わない 0 ～ 10 そう思う）15 | B16: =VLOOKUP(A16,集計貼りつけ!C:ZZ,集計貼りつけ!$C$1,0) -> #REF! | C16: =IF(B16=0,NA(),B16) -> #REF!
A17: =集計貼りつけ!C20 -> 当店を同僚やご友人に勧めたいと思われますか （そう思わない 0 ～ 10 そう思う）16 | B17: =VLOOKUP(A17,集計貼りつけ!C:ZZ,集計貼りつけ!$C$1,0) -> #REF! | C17: =IF(B17=0,NA(),B17) -> #REF!
A18: =集計貼りつけ!C21 -> 当店を同僚やご友人に勧めたいと思われますか （そう思わない 0 ～ 10 そう思う）17 | B18: =VLOOKUP(A18,集計貼りつけ!C:ZZ,集計貼りつけ!$C$1,0) -> #REF! | C18: =IF(B18=0,NA(),B18) -> #REF!
A19: =集計貼りつけ!C22 -> 当店を同僚やご友人に勧めたいと思われますか （そう思わない 0 ～ 10 そう思う）18 | B19: =VLOOKUP(A19,集計貼りつけ!C:ZZ,集計貼りつけ!$C$1,0) -> #REF! | C19: =IF(B19=0,NA(),B19) -> #REF!
A20: =集計貼りつけ!C23 -> 当店を同僚やご友人に勧めたいと思われますか （そう思わない 0 ～ 10 そう思う）19 | B20: =VLOOKUP(A20,集計貼りつけ!C:ZZ,集計貼りつけ!$C$1,0) -> #REF! | C20: =IF(B20=0,NA(),B20) -> #REF!
A21: =集計貼りつけ!C24 -> 当店を同僚やご友人に勧めたいと思われますか （そう思わない 0 ～ 10 そう思う）20 | B21: =VLOOKUP(A21,集計貼りつけ!C:ZZ,集計貼りつけ!$C$1,0) -> #REF! | C21: =IF(B21=0,NA(),B21) -> #REF!
A22: =集計貼りつけ!C25 -> 当店を同僚やご友人に勧めたいと思われますか （そう思わない 0 ～ 10 そう思う）21 | B22: =VLOOKUP(A22,集計貼りつけ!C:ZZ,集計貼りつけ!$C$1,0) -> #REF! | C22: =IF(B22=0,NA(),B22) -> #REF!
A23: =集計貼りつけ!C26 -> 当店を同僚やご友人に勧めたいと思われますか （そう思わない 0 ～ 10 そう思う）22 | B23: =VLOOKUP(A23,集計貼りつけ!C:ZZ,集計貼りつけ!$C$1,0) -> #REF! | C23: =IF(B23=0,NA(),B23) -> #REF!
A24: =集計貼りつけ!C27 -> 当店を同僚やご友人に勧めたいと思われますか （そう思わない 0 ～ 10 そう思う）23 | B24: =VLOOKUP(A24,集計貼りつけ!C:ZZ,集計貼りつけ!$C$1,0) -> #REF! | C24: =IF(B24=0,NA(),B24) -> #REF!
A25: =集計貼りつけ!C28 -> 当店を同僚やご友人に勧めたいと思われますか （そう思わない 0 ～ 10 そう思う）24 | B25: =VLOOKUP(A25,集計貼りつけ!C:ZZ,集計貼りつけ!$C$1,0) -> #REF! | C25: =IF(B25=0,NA(),B25) -> #REF!
... A515: =集計貼りつけ!C518 -> 当店を同僚やご友人に勧めたいと思われますか （そう思わない 0 ～ 10 そう思う） | B515: =VLOOKUP(A515,集計貼りつけ!C:ZZ,集計貼りつけ!$C$1,0) -> #REF! | C515: =IF(B515=0,NA(),B515) -> #REF!
A516: =集計貼りつけ!C519 -> 0
A517: =集計貼りつけ!C520 -> 0
A518: =集計貼りつけ!C521 -> 0
A519: =集計貼りつけ!C522 -> 0
A520: =集計貼りつけ!C523 -> 0
A521: =集計貼りつけ!C524 -> 0
A522: =集計貼りつけ!C525 -> 0
A523: =集計貼りつけ!C526 -> 0
A524: =集計貼りつけ!C527 -> 0
A525: =集計貼りつけ!C528 -> 0
A526: =集計貼りつけ!C529 -> 0
A527: =集計貼りつけ!C530 -> 0
... A532: =集計貼りつけ!C535 -> 0

Sheet その他集計
A1: COUNT | B1: =527-COUNTBLANK(B3:B529) -> 0 | C1: =527-COUNTBLANK(C3:C529) -> 0 | D1: =527-COUNTBLANK(D3:D529) -> 0 | E1: =527-COUNTBLANK(E3:E529) -> 0 | F1: =527-COUNTBLANK(F3:F529) -> 0 | G1: =527-COUNTBLANK(G3:G529) -> 0 | H1: =527-COUNTBLANK(H3:H529) -> 0 | I1: =527-COUNTBLANK(I3:I529) -> 0 | ... Q1: =527-COUNTBLANK(Q3:Q529) -> 0
B2: =集計貼りつけ!E4 -> 0 | C2: =集計貼りつけ!F4 -> 0 | D2: =集計貼りつけ!G4 -> 0 | E2: =集計貼りつけ!H4 -> 0 | F2: =集計貼りつけ!I4 -> 0 | G2: =集計貼りつけ!J4 -> 0 | H2: =集計貼りつけ!K4 -> 0 | I2: =集計貼りつけ!L4 -> 0 | ... Q2: =集計貼りつけ!T4 -> 0
A3: 1 | B3: =SUBSTITUTE(SUBSTITUTE(SUBSTITUTE(SUBSTITUTE(SUBSTITUTE(SUBSTITUTE(集計貼りつけ!E5,申請書!$R35,""),申請書!$T$35,""),申請書!$V$35,""),申請書!$X$35,""),";",""),申請書!$Z$35,"") | C3: =SUBSTITUTE(SUBSTITUTE(SUBSTITUTE(SUBSTITUTE(SUBSTITUTE(SUBSTITUTE(集計貼りつけ!F5,申請書!$R$36,""),申請書!$T$36,""),申請書!$V$36,""),申請書!$X$36,""),";",""),申請書!$Z$36,"") | D3: =SUBSTITUTE(SUBSTITUTE(SUBSTITUTE(SUBSTITUTE(SUBSTITUTE(SUBSTITUTE(集計貼りつけ!G5,申請書!$R$37,""),申請書!$T$37,""),申請書!$V$37,""),申請書!$X$37,""),";",""),申請書!$Z$37,"") | E3: =SUBSTITUTE(SUBSTITUTE(SUBSTITUTE(SUBSTITUTE(SUBSTITUTE(SUBSTITUTE(集計貼りつけ!H5,申請書!$R$38,""),申請書!$T$38,""),申請書!$V$38,""),申請書!$X$38,""),";",""),申請書!$Z$38,"") | F3: =SUBSTITUTE(SUBSTITUTE(SUBSTITUTE(SUBSTITUTE(SUBSTITUTE(SUBSTITUTE(集計貼りつけ!I5,申請書!$R$39,""),申請書!$T$39,""),申請書!$V$39,""),申請書!$X$39,""),";",""),申請書!$Z$39,"") | G3: =SUBSTITUTE(SUBSTITUTE(SUBSTITUTE(SUBSTITUTE(SUBSTITUTE(SUBSTITUTE(集計貼りつけ!J5,申請書!$R$40,""),申請書!$T$40,""),申請書!$V$40,""),申請書!$X$40,""),";",""),申請書!$Z$40,"") | H3: =SUBSTITUTE(SUBSTITUTE(SUBSTITUTE(SUBSTITUTE(SUBSTITUTE(SUBSTITUTE(集計貼りつけ!K5,申請書!$R$41,""),申請書!$T$41,""),申請書!$V$41,""),申請書!$X$41,""),";",""),申請書!$Z$41,"") | I3: =SUBSTITUTE(SUBSTITUTE(SUBSTITUTE(SUBSTITUTE(SUBSTITUTE(SUBSTITUTE(集計貼りつけ!L5,申請書!$R$42,""),申請書!$T$42,""),申請書!$V$42,""),申請書!$X$42,""),";",""),申請書!$Z$42,"") | J3: =SUBSTITUTE(SUBSTITUTE(SUBSTITUTE(SUBSTITUTE(SUBSTITUTE(SUBSTITUTE(集計貼りつけ!M5,申請書!$R$43,""),申請書!$T$43,""),申請書!$V$43,""),申請書!$X$43,""),";",""),申請書!$Z$43,"") | K3: =SUBSTITUTE(SUBSTITUTE(SUBSTITUTE(SUBSTITUTE(SUBSTITUTE(SUBSTITUTE(集計貼りつけ!N5,申請書!$R$44,""),申請書!$T$44,""),申請書!$V$44,""),申請書!$X$44,""),";",""),申請書!$Z$44,"") | L3: =SUBSTITUTE(SUBSTITUTE(SUBSTITUTE(SUBSTITUTE(SUBSTITUTE(SUBSTITUTE(集計貼りつけ!O5,申請書!$R$45,""),申請書!$T$45,""),申請書!$V$45,""),申請書!$X$45,""),";",""),申請書!$Z$45,"") | M3: =SUBSTITUTE(SUBSTITUTE(SUBSTITUTE(SUBSTITUTE(SUBSTITUTE(SUBSTITUTE(集計貼りつけ!P5,申請書!$R$46,""),申請書!$T$46,""),申請書!$V$46,""),申請書!$X$46,""),";",""),申請書!$Z$46,"") | N3: =SUBSTITUTE(SUBSTITUTE(SUBSTITUTE(SUBSTITUTE(SUBSTITUTE(SUBSTITUTE(集計貼りつけ!Q5,申請書!$R$47,""),申請書!$T$47,""),申請書!$V$47,""),申請書!$X$47,""),";",""),申請書!$Z$47,"") | O3: =SUBSTITUTE(SUBSTITUTE(SUBSTITUTE(SUBSTITUTE(SUBSTITUTE(SUBSTITUTE(集計貼りつけ!R5,申請書!$R$48,""),申請書!$T$48,""),申請書!$V$48,""),申請書!$X$48,""),";",""),申請書!$Z$48,"") | P3: =SUBSTITUTE(SUBSTITUTE(SUBSTITUTE(SUBSTITUTE(SUBSTITUTE(SUBSTITUTE(集計貼りつけ!S5,申請書!$R$49,""),申請書!$T$49,""),申請書!$V$49,""),申請書!$X$49,""),";",""),申請書!$Z$49,"") | Q3: =SUBSTITUTE(SUBSTITUTE(SUBSTITUTE(SUBSTITUTE(SUBSTITUTE(SUBSTITUTE(集計貼りつけ!T5,申請書!$R$50,""),申請書!$T$50,""),申請書!$V$50,""),申請書!$X$50,""),";",""),申請書!$Z$50,"")
A4: 2 | B4: =SUBSTITUTE(SUBSTITUTE(SUBSTITUTE(SUBSTITUTE(SUBSTITUTE(SUBSTITUTE(集計貼りつけ!E6,申請書!$R$35,""),申請書!$T$35,""),申請書!$V$35,""),申請書!$X$35,""),";",""),申請書!$Z$35,"") | C4: =SUBSTITUTE(SUBSTITUTE(SUBSTITUTE(SUBSTITUTE(SUBSTITUTE(SUBSTITUTE(集計貼りつけ!F6,申請書!$R$36,""),申請書!$T$36,""),申請書!$V$36,""),申請書!$X$36,""),";",""),申請書!$Z$36,"") | D4: =SUBSTITUTE(SUBSTITUTE(SUBSTITUTE(SUBSTITUTE(SUBSTITUTE(SUBSTITUTE(集計貼りつけ!G6,申請書!$R$37,""),申請書!$T$37,""),申請書!$V$37,""),申請書!$X$37,""),";",""),申請書!$Z$37,"") | E4: =SUBSTITUTE(SUBSTITUTE(SUBSTITUTE(SUBSTITUTE(SUBSTITUTE(SUBSTITUTE(集計貼りつけ!H6,申請書!$R$38,""),申請書!$T$38,""),申請書!$V$38,""),申請書!$X$38,""),";",""),申請書!$Z$38,"") | F4: =SUBSTITUTE(SUBSTITUTE(SUBSTITUTE(SUBSTITUTE(SUBSTITUTE(SUBSTITUTE(集計貼りつけ!I6,申請書!$R$39,""),申請書!$T$39,""),申請書!$V$39,""),申請書!$X$39,""),";",""),申請書!$Z$39,"") | G4: =SUBSTITUTE(SUBSTITUTE(SUBSTITUTE(SUBSTITUTE(SUBSTITUTE(SUBSTITUTE(集計貼りつけ!J6,申請書!$R$40,""),申請書!$T$40,""),申請書!$V$40,""),申請書!$X$40,""),";",""),申請書!$Z$40,"") | H4: =SUBSTITUTE(SUBSTITUTE(SUBSTITUTE(SUBSTITUTE(SUBSTITUTE(SUBSTITUTE(集計貼りつけ!K6,申請書!$R$41,""),申請書!$T$41,""),申請書!$V$41,""),申請書!$X$41,""),";",""),申請書!$Z$41,"") | I4: =SUBSTITUTE(SUBSTITUTE(SUBSTITUTE(SUBSTITUTE(SUBSTITUTE(SUBSTITUTE(集計貼りつけ!L6,申請書!$R$42,""),申請書!$T$42,""),申請書!$V$42,""),申請書!$X$42,""),";",""),申請書!$Z$42,"") | J4: =SUBSTITUTE(SUBSTITUTE(SUBSTITUTE(SUBSTITUTE(SUBSTITUTE(SUBSTITUTE(集計貼りつけ!M6,申請書!$R$43,""),申請書!$T$43,""),申請書!$V$43,""),申請書!$X$43,""),";",""),申請書!$Z$43,"") | K4: =SUBSTITUTE(SUBSTITUTE(SUBSTITUTE(SUBSTITUTE(SUBSTITUTE(SUBSTITUTE(集計貼りつけ!N6,申請書!$R$44,""),申請書!$T$44,""),申請書!$V$44,""),申請書!$X$44,""),";",""),申請書!$Z$44,"") | L4: =SUBSTITUTE(SUBSTITUTE(SUBSTITUTE(SUBSTITUTE(SUBSTITUTE(SUBSTITUTE(集計貼りつけ!O6,申請書!$R$45,""),申請書!$T$45,""),申請書!$V$45,""),申請書!$X$45,""),";",""),申請書!$Z$45,"") | M4: =SUBSTITUTE(SUBSTITUTE(SUBSTITUTE(SUBSTITUTE(SUBSTITUTE(SUBSTITUTE(集計貼りつけ!P6,申請書!$R$46,""),申請書!$T$46,""),申請書!$V$46,""),申請書!$X$46,""),";",""),申請書!$Z$46,"") | N4: =SUBSTITUTE(SUBSTITUTE(SUBSTITUTE(SUBSTITUTE(SUBSTITUTE(SUBSTITUTE(集計貼りつけ!Q6,申請書!$R$47,""),申請書!$T$47,""),申請書!$V$47,""),申請書!$X$47,""),";",""),申請書!$Z$47,"") | O4: =SUBSTITUTE(SUBSTITUTE(SUBSTITUTE(SUBSTITUTE(SUBSTITUTE(SUBSTITUTE(集計貼りつけ!R6,申請書!$R$48,""),申請書!$T$48,""),申請書!$V$48,""),申請書!$X$48,""),";",""),申請書!$Z$48,"") | P4: =SUBSTITUTE(SUBSTITUTE(SUBSTITUTE(SUBSTITUTE(SUBSTITUTE(SUBSTITUTE(集計貼りつけ!S6,申請書!$R$49,""),申請書!$T$49,""),申請書!$V$49,""),申請書!$X$49,""),";",""),申請書!$Z$49,"") | Q4: =SUBSTITUTE(SUBSTITUTE(SUBSTITUTE(SUBSTITUTE(SUBSTITUTE(SUBSTITUTE(集計貼りつけ!T6,申請書!$R$50,""),申請書!$T$50,""),申請書!$V$50,""),申請書!$X$50,""),";",""),申請書!$Z$50,"")
A5: 3 | B5: =SUBSTITUTE(SUBSTITUTE(SUBSTITUTE(SUBSTITUTE(SUBSTITUTE(SUBSTITUTE(集計貼りつけ!E7,申請書!$R$35,""),申請書!$T$35,""),申請書!$V$35,""),申請書!$X$35,""),";",""),申請書!$Z$35,"") | C5: =SUBSTITUTE(SUBSTITUTE(SUBSTITUTE(SUBSTITUTE(SUBSTITUTE(SUBSTITUTE(集計貼りつけ!F7,申請書!$R$36,""),申請書!$T$36,""),申請書!$V$36,""),申請書!$X$36,""),";",""),申請書!$Z$36,"") | D5: =SUBSTITUTE(SUBSTITUTE(SUBSTITUTE(SUBSTITUTE(SUBSTITUTE(SUBSTITUTE(集計貼りつけ!G7,申請書!$R$37,""),申請書!$T$37,""),申請書!$V$37,""),申請書!$X$37,""),";",""),申請書!$Z$37,"") | E5: =SUBSTITUTE(SUBSTITUTE(SUBSTITUTE(SUBSTITUTE(SUBSTITUTE(SUBSTITUTE(集計貼りつけ!H7,申請書!$R$38,""),申請書!$T$38,""),申請書!$V$38,""),申請書!$X$38,""),";",""),申請書!$Z$38,"") | F5: =SUBSTITUTE(SUBSTITUTE(SUBSTITUTE(SUBSTITUTE(SUBSTITUTE(SUBSTITUTE(集計貼りつけ!I7,申請書!$R$39,""),申請書!$T$39,""),申請書!$V$39,""),申請書!$X$39,""),";",""),申請書!$Z$39,"") | G5: =SUBSTITUTE(SUBSTITUTE(SUBSTITUTE(SUBSTITUTE(SUBSTITUTE(SUBSTITUTE(集計貼りつけ!J7,申請書!$R$40,""),申請書!$T$40,""),申請書!$V$40,""),申請書!$X$40,""),";",""),申請書!$Z$40,"") | H5: =SUBSTITUTE(SUBSTITUTE(SUBSTITUTE(SUBSTITUTE(SUBSTITUTE(SUBSTITUTE(集計貼りつけ!K7,申請書!$R$41,""),申請書!$T$41,""),申請書!$V$41,""),申請書!$X$41,""),";",""),申請書!$Z$41,"") | I5: =SUBSTITUTE(SUBSTITUTE(SUBSTITUTE(SUBSTITUTE(SUBSTITUTE(SUBSTITUTE(集計貼りつけ!L7,申請書!$R$42,""),申請書!$T$42,""),申請書!$V$42,""),申請書!$X$42,""),";",""),申請書!$Z$42,"") | J5: =SUBSTITUTE(SUBSTITUTE(SUBSTITUTE(SUBSTITUTE(SUBSTITUTE(SUBSTITUTE(集計貼りつけ!M7,申請書!$R$43,""),申請書!$T$43,""),申請書!$V$43,""),申請書!$X$43,""),";",""),申請書!$Z$43,"") | K5: =SUBSTITUTE(SUBSTITUTE(SUBSTITUTE(SUBSTITUTE(SUBSTITUTE(SUBSTITUTE(集計貼りつけ!N7,申請書!$R$44,""),申請書!$T$44,""),申請書!$V$44,""),申請書!$X$44,""),";",""),申請書!$Z$44,"") | L5: =SUBSTITUTE(SUBSTITUTE(SUBSTITUTE(SUBSTITUTE(SUBSTITUTE(SUBSTITUTE(集計貼りつけ!O7,申請書!$R$45,""),申請書!$T$45,""),申請書!$V$45,""),申請書!$X$45,""),";",""),申請書!$Z$45,"") | M5: =SUBSTITUTE(SUBSTITUTE(SUBSTITUTE(SUBSTITUTE(SUBSTITUTE(SUBSTITUTE(集計貼りつけ!P7,申請書!$R$46,""),申請書!$T$46,""),申請書!$V$46,""),申請書!$X$46,""),";",""),申請書!$Z$46,"") | N5: =SUBSTITUTE(SUBSTITUTE(SUBSTITUTE(SUBSTITUTE(SUBSTITUTE(SUBSTITUTE(集計貼りつけ!Q7,申請書!$R$47,""),申請書!$T$47,""),申請書!$V$47,""),申請書!$X$47,""),";",""),申請書!$Z$47,"") | O5: =SUBSTITUTE(SUBSTITUTE(SUBSTITUTE(SUBSTITUTE(SUBSTITUTE(SUBSTITUTE(集計貼りつけ!R7,申請書!$R$48,""),申請書!$T$48,""),申請書!$V$48,""),申請書!$X$48,""),";",""),申請書!$Z$48,"") | P5: =SUBSTITUTE(SUBSTITUTE(SUBSTITUTE(SUBSTITUTE(SUBSTITUTE(SUBSTITUTE(集計貼りつけ!S7,申請書!$R$49,""),申請書!$T$49,""),申請書!$V$49,""),申請書!$X$49,""),";",""),申請書!$Z$49,"") | Q5: =SUBSTITUTE(SUBSTITUTE(SUBSTITUTE(SUBSTITUTE(SUBSTITUTE(SUBSTITUTE(集計貼りつけ!T7,申請書!$R$50,""),申請書!$T$50,""),申請書!$V$50,""),申請書!$X$50,""),";",""),申請書!$Z$50,"")
A6: 4 | B6: =SUBSTITUTE(SUBSTITUTE(SUBSTITUTE(SUBSTITUTE(SUBSTITUTE(SUBSTITUTE(集計貼りつけ!E8,申請書!$R$35,""),申請書!$T$35,""),申請書!$V$35,""),申請書!$X$35,""),";",""),申請書!$Z$35,"") | C6: =SUBSTITUTE(SUBSTITUTE(SUBSTITUTE(SUBSTITUTE(SUBSTITUTE(SUBSTITUTE(集計貼りつけ!F8,申請書!$R$36,""),申請書!$T$36,""),申請書!$V$36,""),申請書!$X$36,""),";",""),申請書!$Z$36,"") | D6: =SUBSTITUTE(SUBSTITUTE(SUBSTITUTE(SUBSTITUTE(SUBSTITUTE(SUBSTITUTE(集計貼りつけ!G8,申請書!$R$37,""),申請書!$T$37,""),申請書!$V$37,""),申請書!$X$37,""),";",""),申請書!$Z$37,"") | E6: =SUBSTITUTE(SUBSTITUTE(SUBSTITUTE(SUBSTITUTE(SUBSTITUTE(SUBSTITUTE(集計貼りつけ!H8,申請書!$R$38,""),申請書!$T$38,""),申請書!$V$38,""),申請書!$X$38,""),";",""),申請書!$Z$38,"") | F6: =SUBSTITUTE(SUBSTITUTE(SUBSTITUTE(SUBSTITUTE(SUBSTITUTE(SUBSTITUTE(集計貼りつけ!I8,申請書!$R$39,""),申請書!$T$39,""),申請書!$V$39,""),申請書!$X$39,""),";",""),申請書!$Z$39,"") | G6: =SUBSTITUTE(SUBSTITUTE(SUBSTITUTE(SUBSTITUTE(SUBSTITUTE(SUBSTITUTE(集計貼りつけ!J8,申請書!$R$40,""),申請書!$T$40,""),申請書!$V$40,""),申請書!$X$40,""),";",""),申請書!$Z$40,"") | H6: =SUBSTITUTE(SUBSTITUTE(SUBSTITUTE(SUBSTITUTE(SUBSTITUTE(SUBSTITUTE(集計貼りつけ!K8,申請書!$R$41,""),申請書!$T$41,""),申請書!$V$41,""),申請書!$X$41,""),";",""),申請書!$Z$41,"") | I6: =SUBSTITUTE(SUBSTITUTE(SUBSTITUTE(SUBSTITUTE(SUBSTITUTE(SUBSTITUTE(集計貼りつけ!L8,申請書!$R$42,""),申請書!$T$42,""),申請書!$V$42,""),申請書!$X$42,""),";",""),申請書!$Z$42,"") | J6: =SUBSTITUTE(SUBSTITUTE(SUBSTITUTE(SUBSTITUTE(SUBSTITUTE(SUBSTITUTE(集計貼りつけ!M8,申請書!$R$43,""),申請書!$T$43,""),申請書!$V$43,""),申請書!$X$43,""),";",""),申請書!$Z$43,"") | K6: =SUBSTITUTE(SUBSTITUTE(SUBSTITUTE(SUBSTITUTE(SUBSTITUTE(SUBSTITUTE(集計貼りつけ!N8,申請書!$R$44,""),申請書!$T$44,""),申請書!$V$44,""),申請書!$X$44,""),";",""),申請書!$Z$44,"") | L6: =SUBSTITUTE(SUBSTITUTE(SUBSTITUTE(SUBSTITUTE(SUBSTITUTE(SUBSTITUTE(集計貼りつけ!O8,申請書!$R$45,""),申請書!$T$45,""),申請書!$V$45,""),申請書!$X$45,""),";",""),申請書!$Z$45,"") | M6: =SUBSTITUTE(SUBSTITUTE(SUBSTITUTE(SUBSTITUTE(SUBSTITUTE(SUBSTITUTE(集計貼りつけ!P8,申請書!$R$46,""),申請書!$T$46,""),申請書!$V$46,""),申請書!$X$46,""),";",""),申請書!$Z$46,"") | N6: =SUBSTITUTE(SUBSTITUTE(SUBSTITUTE(SUBSTITUTE(SUBSTITUTE(SUBSTITUTE(集計貼りつけ!Q8,申請書!$R$47,""),申請書!$T$47,""),申請書!$V$47,""),申請書!$X$47,""),";",""),申請書!$Z$47,"") | O6: =SUBSTITUTE(SUBSTITUTE(SUBSTITUTE(SUBSTITUTE(SUBSTITUTE(SUBSTITUTE(集計貼りつけ!R8,申請書!$R$48,""),申請書!$T$48,""),申請書!$V$48,""),申請書!$X$48,""),";",""),申請書!$Z$48,"") | P6: =SUBSTITUTE(SUBSTITUTE(SUBSTITUTE(SUBSTITUTE(SUBSTITUTE(SUBSTITUTE(集計貼りつけ!S8,申請書!$R$49,""),申請書!$T$49,""),申請書!$V$49,""),申請書!$X$49,""),";",""),申請書!$Z$49,"") | Q6: =SUBSTITUTE(SUBSTITUTE(SUBSTITUTE(SUBSTITUTE(SUBSTITUTE(SUBSTITUTE(集計貼りつけ!T8,申請書!$R$50,""),申請書!$T$50,""),申請書!$V$50,""),申請書!$X$50,""),";",""),申請書!$Z$50,"")
A7: 5 | B7: =SUBSTITUTE(SUBSTITUTE(SUBSTITUTE(SUBSTITUTE(SUBSTITUTE(SUBSTITUTE(集計貼りつけ!E9,申請書!$R$35,""),申請書!$T$35,""),申請書!$V$35,""),申請書!$X$35,""),";",""),申請書!$Z$35,"") | C7: =SUBSTITUTE(SUBSTITUTE(SUBSTITUTE(SUBSTITUTE(SUBSTITUTE(SUBSTITUTE(集計貼りつけ!F9,申請書!$R$36,""),申請書!$T$36,""),申請書!$V$36,""),申請書!$X$36,""),";",""),申請書!$Z$36,"") | D7: =SUBSTITUTE(SUBSTITUTE(SUBSTITUTE(SUBSTITUTE(SUBSTITUTE(SUBSTITUTE(集計貼りつけ!G9,申請書!$R$37,""),申請書!$T$37,""),申請書!$V$37,""),申請書!$X$37,""),";",""),申請書!$Z$37,"") | E7: =SUBSTITUTE(SUBSTITUTE(SUBSTITUTE(SUBSTITUTE(SUBSTITUTE(SUBSTITUTE(集計貼りつけ!H9,申請書!$R$38,""),申請書!$T$38,""),申請書!$V$38,""),申請書!$X$38,""),";",""),申請書!$Z$38,"") | F7: =SUBSTITUTE(SUBSTITUTE(SUBSTITUTE(SUBSTITUTE(SUBSTITUTE(SUBSTITUTE(集計貼りつけ!I9,申請書!$R$39,""),申請書!$T$39,""),申請書!$V$39,""),申請書!$X$39,""),";",""),申請書!$Z$39,"") | G7: =SUBSTITUTE(SUBSTITUTE(SUBSTITUTE(SUBSTITUTE(SUBSTITUTE(SUBSTITUTE(集計貼りつけ!J9,申請書!$R$40,""),申請書!$T$40,""),申請書!$V$40,""),申請書!$X$40,""),";",""),申請書!$Z$40,"") | H7: =SUBSTITUTE(SUBSTITUTE(SUBSTITUTE(SUBSTITUTE(SUBSTITUTE(SUBSTITUTE(集計貼りつけ!K9,申請書!$R$41,""),申請書!$T$41,""),申請書!$V$41,""),申請書!$X$41,""),";",""),申請書!$Z$41,"") | I7: =SUBSTITUTE(SUBSTITUTE(SUBSTITUTE(SUBSTITUTE(SUBSTITUTE(SUBSTITUTE(集計貼りつけ!L9,申請書!$R$42,""),申請書!$T$42,""),申請書!$V$42,""),申請書!$X$42,""),";",""),申請書!$Z$42,"") | J7: =SUBSTITUTE(SUBSTITUTE(SUBSTITUTE(SUBSTITUTE(SUBSTITUTE(SUBSTITUTE(集計貼りつけ!M9,申請書!$R$43,""),申請書!$T$43,""),申請書!$V$43,""),申請書!$X$43,""),";",""),申請書!$Z$43,"") | K7: =SUBSTITUTE(SUBSTITUTE(SUBSTITUTE(SUBSTITUTE(SUBSTITUTE(SUBSTITUTE(集計貼りつけ!N9,申請書!$R$44,""),申請書!$T$44,""),申請書!$V$44,""),申請書!$X$44,""),";",""),申請書!$Z$44,"") | L7: =SUBSTITUTE(SUBSTITUTE(SUBSTITUTE(SUBSTITUTE(SUBSTITUTE(SUBSTITUTE(集計貼りつけ!O9,申請書!$R$45,""),申請書!$T$45,""),申請書!$V$45,""),申請書!$X$45,""),";",""),申請書!$Z$45,"") | M7: =SUBSTITUTE(SUBSTITUTE(SUBSTITUTE(SUBSTITUTE(SUBSTITUTE(SUBSTITUTE(集計貼りつけ!P9,申請書!$R$46,""),申請書!$T$46,""),申請書!$V$46,""),申請書!$X$46,""),";",""),申請書!$Z$46,"") | N7: =SUBSTITUTE(SUBSTITUTE(SUBSTITUTE(SUBSTITUTE(SUBSTITUTE(SUBSTITUTE(集計貼りつけ!Q9,申請書!$R$47,""),申請書!$T$47,""),申請書!$V$47,""),申請書!$X$47,""),";",""),申請書!$Z$47,"") | O7: =SUBSTITUTE(SUBSTITUTE(SUBSTITUTE(SUBSTITUTE(SUBSTITUTE(SUBSTITUTE(集計貼りつけ!R9,申請書!$R$48,""),申請書!$T$48,""),申請書!$V$48,""),申請書!$X$48,""),";",""),申請書!$Z$48,"") | P7: =SUBSTITUTE(SUBSTITUTE(SUBSTITUTE(SUBSTITUTE(SUBSTITUTE(SUBSTITUTE(集計貼りつけ!S9,申請書!$R$49,""),申請書!$T$49,""),申請書!$V$49,""),申請書!$X$49,""),";",""),申請書!$Z$49,"") | Q7: =SUBSTITUTE(SUBSTITUTE(SUBSTITUTE(SUBSTITUTE(SUBSTITUTE(SUBSTITUTE(集計貼りつけ!T9,申請書!$R$50,""),申請書!$T$50,""),申請書!$V$50,""),申請書!$X$50,""),";",""),申請書!$Z$50,"")
A8: 6 | B8: =SUBSTITUTE(SUBSTITUTE(SUBSTITUTE(SUBSTITUTE(SUBSTITUTE(SUBSTITUTE(集計貼りつけ!E10,申請書!$R$35,""),申請書!$T$35,""),申請書!$V$35,""),申請書!$X$35,""),";",""),申請書!$Z$35,"") | C8: =SUBSTITUTE(SUBSTITUTE(SUBSTITUTE(SUBSTITUTE(SUBSTITUTE(SUBSTITUTE(集計貼りつけ!F10,申請書!$R$36,""),申請書!$T$36,""),申請書!$V$36,""),申請書!$X$36,""),";",""),申請書!$Z$36,"") | D8: =SUBSTITUTE(SUBSTITUTE(SUBSTITUTE(SUBSTITUTE(SUBSTITUTE(SUBSTITUTE(集計貼りつけ!G10,申請書!$R$37,""),申請書!$T$37,""),申請書!$V$37,""),申請書!$X$37,""),";",""),申請書!$Z$37,"") | E8: =SUBSTITUTE(SUBSTITUTE(SUBSTITUTE(SUBSTITUTE(SUBSTITUTE(SUBSTITUTE(集計貼りつけ!H10,申請書!$R$38,""),申請書!$T$38,""),申請書!$V$38,""),申請書!$X$38,""),";",""),申請書!$Z$38,"") | F8: =SUBSTITUTE(SUBSTITUTE(SUBSTITUTE(SUBSTITUTE(SUBSTITUTE(SUBSTITUTE(集計貼りつけ!I10,申請書!$R$39,""),申請書!$T$39,""),申請書!$V$39,""),申請書!$X$39,""),";",""),申請書!$Z$39,"") | G8: =SUBSTITUTE(SUBSTITUTE(SUBSTITUTE(SUBSTITUTE(SUBSTITUTE(SUBSTITUTE(集計貼りつけ!J10,申請書!$R$40,""),申請書!$T$40,""),申請書!$V$40,""),申請書!$X$40,""),";",""),申請書!$Z$40,"") | H8: =SUBSTITUTE(SUBSTITUTE(SUBSTITUTE(SUBSTITUTE(SUBSTITUTE(SUBSTITUTE(集計貼りつけ!K10,申請書!$R$41,""),申請書!$T$41,""),申請書!$V$41,""),申請書!$X$41,""),";",""),申請書!$Z$41,"") | I8: =SUBSTITUTE(SUBSTITUTE(SUBSTITUTE(SUBSTITUTE(SUBSTITUTE(SUBSTITUTE(集計貼りつけ!L10,申請書!$R$42,""),申請書!$T$42,""),申請書!$V$42,""),申請書!$X$42,""),";",""),申請書!$Z$42,"") | J8: =SUBSTITUTE(SUBSTITUTE(SUBSTITUTE(SUBSTITUTE(SUBSTITUTE(SUBSTITUTE(集計貼りつけ!M10,申請書!$R$43,""),申請書!$T$43,""),申請書!$V$43,""),申請書!$X$43,""),";",""),申請書!$Z$43,"") | K8: =SUBSTITUTE(SUBSTITUTE(SUBSTITUTE(SUBSTITUTE(SUBSTITUTE(SUBSTITUTE(集計貼りつけ!N10,申請書!$R$44,""),申請書!$T$44,""),申請書!$V$44,""),申請書!$X$44,""),";",""),申請書!$Z$44,"") | L8: =SUBSTITUTE(SUBSTITUTE(SUBSTITUTE(SUBSTITUTE(SUBSTITUTE(SUBSTITUTE(集計貼りつけ!O10,申請書!$R$45,""),申請書!$T$45,""),申請書!$V$45,""),申請書!$X$45,""),";",""),申請書!$Z$45,"") | M8: =SUBSTITUTE(SUBSTITUTE(SUBSTITUTE(SUBSTITUTE(SUBSTITUTE(SUBSTITUTE(集計貼りつけ!P10,申請書!$R$46,""),申請書!$T$46,""),申請書!$V$46,""),申請書!$X$46,""),";",""),申請書!$Z$46,"") | N8: =SUBSTITUTE(SUBSTITUTE(SUBSTITUTE(SUBSTITUTE(SUBSTITUTE(SUBSTITUTE(集計貼りつけ!Q10,申請書!$R$47,""),申請書!$T$47,""),申請書!$V$47,""),申請書!$X$47,""),";",""),申請書!$Z$47,"") | O8: =SUBSTITUTE(SUBSTITUTE(SUBSTITUTE(SUBSTITUTE(SUBSTITUTE(SUBSTITUTE(集計貼りつけ!R10,申請書!$R$48,""),申請書!$T$48,""),申請書!$V$48,""),申請書!$X$48,""),";",""),申請書!$Z$48,"") | P8: =SUBSTITUTE(SUBSTITUTE(SUBSTITUTE(SUBSTITUTE(SUBSTITUTE(SUBSTITUTE(集計貼りつけ!S10,申請書!$R$49,""),申請書!$T$49,""),申請書!$V$49,""),申請書!$X$49,""),";",""),申請書!$Z$49,"") | Q8: =SUBSTITUTE(SUBSTITUTE(SUBSTITUTE(SUBSTITUTE(SUBSTITUTE(SUBSTITUTE(集計貼りつけ!T10,申請書!$R$50,""),申請書!$T$50,""),申請書!$V$50,""),申請書!$X$50,""),";",""),申請書!$Z$50,"")
A9: 7 | B9: =SUBSTITUTE(SUBSTITUTE(SUBSTITUTE(SUBSTITUTE(SUBSTITUTE(SUBSTITUTE(集計貼りつけ!E11,申請書!$R$35,""),申請書!$T$35,""),申請書!$V$35,""),申請書!$X$35,""),";",""),申請書!$Z$35,"") | C9: =SUBSTITUTE(SUBSTITUTE(SUBSTITUTE(SUBSTITUTE(SUBSTITUTE(SUBSTITUTE(集計貼りつけ!F11,申請書!$R$36,""),申請書!$T$36,""),申請書!$V$36,""),申請書!$X$36,""),";",""),申請書!$Z$36,"") | D9: =SUBSTITUTE(SUBSTITUTE(SUBSTITUTE(SUBSTITUTE(SUBSTITUTE(SUBSTITUTE(集計貼りつけ!G11,申請書!$R$37,""),申請書!$T$37,""),申請書!$V$37,""),申請書!$X$37,""),";",""),申請書!$Z$37,"") | E9: =SUBSTITUTE(SUBSTITUTE(SUBSTITUTE(SUBSTITUTE(SUBSTITUTE(SUBSTITUTE(集計貼りつけ!H11,申請書!$R$38,""),申請書!$T$38,""),申請書!$V$38,""),申請書!$X$38,""),";",""),申請書!$Z$38,"") | F9: =SUBSTITUTE(SUBSTITUTE(SUBSTITUTE(SUBSTITUTE(SUBSTITUTE(SUBSTITUTE(集計貼りつけ!I11,申請書!$R$39,""),申請書!$T$39,""),申請書!$V$39,""),申請書!$X$39,""),";",""),申請書!$Z$39,"") | G9: =SUBSTITUTE(SUBSTITUTE(SUBSTITUTE(SUBSTITUTE(SUBSTITUTE(SUBSTITUTE(集計貼りつけ!J11,申請書!$R$40,""),申請書!$T$40,""),申請書!$V$40,""),申請書!$X$40,""),";",""),申請書!$Z$40,"") | H9: =SUBSTITUTE(SUBSTITUTE(SUBSTITUTE(SUBSTITUTE(SUBSTITUTE(SUBSTITUTE(集計貼りつけ!K11,申請書!$R$41,""),申請書!$T$41,""),申請書!$V$41,""),申請書!$X$41,""),";",""),申請書!$Z$41,"") | I9: =SUBSTITUTE(SUBSTITUTE(SUBSTITUTE(SUBSTITUTE(SUBSTITUTE(SUBSTITUTE(集計貼りつけ!L11,申請書!$R$42,""),申請書!$T$42,""),申請書!$V$42,""),申請書!$X$42,""),";",""),申請書!$Z$42,"") | J9: =SUBSTITUTE(SUBSTITUTE(SUBSTITUTE(SUBSTITUTE(SUBSTITUTE(SUBSTITUTE(集計貼りつけ!M11,申請書!$R$43,""),申請書!$T$43,""),申請書!$V$43,""),申請書!$X$43,""),";",""),申請書!$Z$43,"") | K9: =SUBSTITUTE(SUBSTITUTE(SUBSTITUTE(SUBSTITUTE(SUBSTITUTE(SUBSTITUTE(集計貼りつけ!N11,申請書!$R$44,""),申請書!$T$44,""),申請書!$V$44,""),申請書!$X$44,""),";",""),申請書!$Z$44,"") | L9: =SUBSTITUTE(SUBSTITUTE(SUBSTITUTE(SUBSTITUTE(SUBSTITUTE(SUBSTITUTE(集計貼りつけ!O11,申請書!$R$45,""),申請書!$T$45,""),申請書!$V$45,""),申請書!$X$45,""),";",""),申請書!$Z$45,"") | M9: =SUBSTITUTE(SUBSTITUTE(SUBSTITUTE(SUBSTITUTE(SUBSTITUTE(SUBSTITUTE(集計貼りつけ!P11,申請書!$R$46,""),申請書!$T$46,""),申請書!$V$46,""),申請書!$X$46,""),";",""),申請書!$Z$46,"") | N9: =SUBSTITUTE(SUBSTITUTE(SUBSTITUTE(SUBSTITUTE(SUBSTITUTE(SUBSTITUTE(集計貼りつけ!Q11,申請書!$R$47,""),申請書!$T$47,""),申請書!$V$47,""),申請書!$X$47,""),";",""),申請書!$Z$47,"") | O9: =SUBSTITUTE(SUBSTITUTE(SUBSTITUTE(SUBSTITUTE(SUBSTITUTE(SUBSTITUTE(集計貼りつけ!R11,申請書!$R$48,""),申請書!$T$48,""),申請書!$V$48,""),申請書!$X$48,""),";",""),申請書!$Z$48,"") | P9: =SUBSTITUTE(SUBSTITUTE(SUBSTITUTE(SUBSTITUTE(SUBSTITUTE(SUBSTITUTE(集計貼りつけ!S11,申請書!$R$49,""),申請書!$T$49,""),申請書!$V$49,""),申請書!$X$49,""),";",""),申請書!$Z$49,"") | Q9: =SUBSTITUTE(SUBSTITUTE(SUBSTITUTE(SUBSTITUTE(SUBSTITUTE(SUBSTITUTE(集計貼りつけ!T11,申請書!$R$50,""),申請書!$T$50,""),申請書!$V$50,""),申請書!$X$50,""),";",""),申請書!$Z$50,"")
